Workbook

Sheet Segto.30.01.2019 Isvimed RC
A1: Código: FPAR03 | D1: PLAN DE MEJORAMIENTO ÚNICO
O2: PERÍODO FISCAL:
A3: Versión: 06 | D3: ENTIDAD: Instituto Social de Vivienda y Hábitat Municipio de Medellín – ISVIMED
Y4: =TODAY() -> 44992
A5: FORMULACIÓN DE LAS ACCIONES | N5: SEGUIMIENTO VIGENCIA 2016 (Auditoria 2017) Contraloría | S5: SEGUIMIENTO VIGENCIA 2017 (Auditoria 2018) Radicado E14772 y E 15503 (Contraloría) | X5: SEGUIMIENTO VIGENCIA 2019 (Realizado por: Isvimed)
A6: NOMBRE DE LA AUDITORÍA | B6: FECHA DE LA AUDITORÍA (aaaa-mm-dd) | C6: Nro. | D6: DESCRIPCIÓN DEL HALLAZGO | E6: CAUSAS DEL HALLAZGO | F6: HALLAZGO ADMINISTRATIVO CON INCIDENCIA | G6: ACCIÓN DE MEJORAMIENTO/CORRECTIVA | H6: PLAZO DE LA ACCIÓN | J6: OBJETIVO QUE SE BUSCA LOGRAR | K6: FECHA OBTENCIÓN DE RESUILTADOS | L6: RESPONSABLE | N6: CUMPLIMIENTO DE LA ACCIÓN % | O6: EFECTIVIDAD % | P6: OBSERVACIONES Vigencia 2018. | S6: CUMPLIMIENTO DE LA ACCIÓN % | T6: EFECTIVIDAD % | V6: NOMBRE DE LA AUDITORÍA | W6: SUBDIRECCIÓN | X6: TIEMPO | Z6: AVANCES (Subdirección) ENERO 2019 | AE6: CALIFICACIÓN (JOCI) | AJ6: AVANCES (Subdirección) MARZO 2019 | AO6: AVANCES (Subdirección) JUNIO 2019 | AT6: CALIFICACIÓN (JOCI) | AY6: AVANCES (Subdirección) OCTUBRE 2019 | BD6: AVANCES (Subdirección) DICIEMBRE 2019
F7: (Lista desplegable) | H7: FECHA INICIO (AA/MM/DD) | I7: FECHA TERMINACIÓN (AA/MM/DD) | L7: DEPENDENCIA | M7: FUNCIONARIO | X7: TIEMPO DE EJECUCIÓN PLAZO | Y7: TIEMPO RESTANTE PARA EL VENCIMIENTO | Z7: AUTOEVEALUACIÓN CON CORTE A: (DD/MM/AAAA) | AA7: REPORTE DE AVANCE (Diligencia Auditado) | AB7: RADICADO DE RESPUESTA | AC7: SOPORTES | AD7: CUMPLIMIENTO DE LA ACCIÓN % | AE7: SEGUIMIENTO A LA EFICACIA (Diligencia el Auditor) | AF7: CUMPLIMIENTO DE LA ACCIÓN % | AG7: CUMPLIMIENTO DE LA EFECTIVIDAD % | AH7: ESTADO DE LA EFECTIVIDAD | AI7: RECOMENDACIÓN | AJ7: AUTOEVEALUACIÓN CON CORTE A: (DD/MM/AAAA) | AK7: REPORTE DE AVANCE (Diligencia Auditado) | AL7: RADICADO DE RESPUESTA | AM7: SOPORTES | AN7: CUMPLIMIENTO DE LA ACCIÓN % | AO7: AUTOEVEALUACIÓN CON CORTE A: (DD/MM/AAAA) | AP7: REPORTE DE AVANCE (Diligencia Auditado) | AQ7: RADICADO DE RESPUESTA | AR7: SOPORTES | AS7: CUMPLIMIENTO DE LA ACCIÓN % | AT7: SEGUIMIENTO A LA EFICACIA (Diligencia el Auditor) | AU7: CUMPLIMIENTO DE LA ACCIÓN % | AV7: CUMPLIMIENTO DE LA EFECTIVIDAD % | AW7: ESTADO DE LA EFECTIVIDAD | AX7: RECOMENDACIÓN | AY7: AUTOEVEALUACIÓN CON CORTE A: (DD/MM/AAAA) | AZ7: REPORTE DE AVANCE (Diligencia Auditado) | BA7: RADICADO DE RESPUESTA | BB7: SOPORTES | BC7: CUMPLIMIENTO DE LA ACCIÓN % | BD7: AUTOEVEALUACIÓN CON CORTE A: (DD/MM/AAAA) | BE7: REPORTE DE AVANCE (Diligencia Auditado) | BF7: RADICADO DE RESPUESTA | BG7: SOPORTES | BH7: CUMPLIMIENTO DE LA ACCIÓN %
A8: AUDITORÍA ESPECIAL MEJORAMIENTO DE VIVIENDA | B8: junio de 2015 | C8: 29.7 | D8: Hallazgo administrativo 7 con presunta incidencia fiscal (corresponde a la observación 9 del informe preliminar). Incumplimiento resoluciones convenio 188: Mediante el convenio 188 de 2013, la Asociación de Mujeres Cabeza de Familia Unidas de Medellín — AMUCAFAUM realizó entre el 17 de abril y el 16 de junio de 2013, 100 diagnósticos para mejoramientos de vivienda en la comuna 6 del Municipio de Medellín. Posteriormente, el ISVIMED expide las resoluciones: 624 del 26 de julio de 2013, 702 del 20 de agosto de 2013 y 1132 de 2 de diciembre de 2013. En cada una de estas resoluciones se determina que este operador en calidad de oferente en el marco de la postulación colectiva para adelantar el proyecto, ejecutará las obras de mejoramiento de vivienda de las familias contenidas en ellas, cuyos diagnósticos se realizaron en el mencionado convenio. En los informes de interventoría de marzo 16 de 2015 para estas tres resoluciones se establece el incumplimiento del operador por: no cumplir el plazo, no facilitar la labor de interventoría, no garantizar la entrega de materiales de buena calidad y la finalización de algunas actividades a total satisfacción en cada una de las viviendas, suspender obras, no registrar en las bitácoras firmas del profesional técnico encargado por el operador en la residencia de las obras, no reportar cambios de obra, ni sustentarlos, no efectuar seguimiento y reparaciones necesarias en las viviendas donde se encontraron obras defectuosas. En el citado informe de interventoría correspondiente a la resolución 624, además de las causales anteriores, se menciona, no haber recibido en debida forma dos actos de licencia estructural expedidos por la curaduría cuarta de Medellín y no disponer de escombros y material de excavación en botadero oficial en algunas viviendas intervenidas. El daño cuantificado por la interventoría es de $28.656.646, más la indexación que deberá realizarse sobre esa cifra desde la fecha en la cual se debió acreditar la terminación de los mejoramientos hasta la fecha de devolución al ISVIMED. La resolución 624 contemplaba la ejecución de 44 mejoramientos de vivienda por valor de $332.291.405 en un plazo de 2 meses, que venció el 13 de octubre de 2013. Los correspondientes amparos de pago anticipado y cumplimiento contemplados en la póliza 42-44-101061546 de Seguros del Estado vencieron el 12 de febrero de 2014 y su cuantía es por $166.145.702 y $33.229.149,5 respectivamente. No se constituyó garantía de calidad y estabilidad. Para la resolución 702, la cuantificación del daño realizada por la interventoría en su informe de marzo 16 de 2015 es de $45.329.040, más la indexación que deberá realizarse sobre esa cifra desde el 3 de noviembre de 2013 fecha en la cual se debió acreditar la terminación de los mejoramientos hasta la fecha de devolución al ISVIMED. La resolución 702 contemplaba la ejecución de 30 mejoramientos por valor de $225.990.524 en un plazo de 2 meses, que venció el 3 de noviembre de 2013. Los amparos de pago anticipado y cumplimiento ontemplados en la póliza 42-44- 101061994 de Seguros del Estado vencieron el 2 de marzo de 2014 y sus cuantías son por $112.995.262 y $22.599.052,4 respectivamente. No se constituyó garantía de calidad y estabilidad. Para la resolución 1132, en la cual además de las causales generales anteriormente citadas, se menciona en el informe de interventoría de marzo 16 de 2015, no haber recibido en debida forma 11 de los 15 actos de licencia estructural expedidos por la curaduría cuarta de Medellín, la cuantificación del daño realizada por la interventoría es de $66.040.657, más la indexación que deberá realizarse sobre esa cifra desde la fecha en la cual se debió acreditar la terminación de los mejoramientos hasta la fecha de devolución al ISVIMED. La resolución 1132 contemplaba la ejecución de 27 mejoramientos por valor de $210.227.286 en un plazo de dos meses, que venció el 7 de febrero de 2014. Los amparos de pago anticipado y cumplimiento contemplados en la póliza 42-44- 101064616 de Seguros del Estado vencieron el 6 de abril de 2014 y sus cuantías son por $ 105.113.643 y $21.022.728 respectivamente. En esta resolución se exige una vigencia igual a la duración del contrato para las garantías de cumplimiento y pago anticipado, sin embargo, se constituye por dos meses más. En total el daño cuantificado por la interventoría para las resoluciones mediante las cuales se asignan los subsidios de mejoramiento de vivienda viabilizados en el convenio 188 de 2013, cuyo operador es la Asociación de Mujeres Cabeza de Familia Unidas de Medellín — AMUCAFAUM, asciende a $140.026.343. Actualmente, se encuentran varios beneficiarios de los subsidios, perjudicados, por no tener su vivienda en condiciones adecuadas a causa de obras inconclusas, o con calidad deficiente, algunos que han asumido por cuenta propia las reparaciones de obras defectuosas y otros que están pagando arriendo por encontrarse sus viviendas en condiciones que no permiten su habitabilidad, especialmente aquellos a los cuales se les asignó subsidio de tipo estructural, que el operador inició sin la correspondiente licencia. Aún es incierta la fecha de solución de estos problemas, ya que según lo expresado en respuesta a requerimiento de la Contraloría en este sentido, debe quedar en firme el acto administrativo que declare el siniestro o la ocurrencia del riesgo de cumplimiento, para proceder a la reasignación de los beneficiarios que no se les haya ejecutado o se les haya hecho parcialmente el mejoramiento. Además de que los plazos establecidos en las tres resoluciones mediante las cuales se asignaron los subsidios de mejoramiento de vivienda que AMUCAFAUM debía ejecutar, vencieron desde el 13 de octubre de 2013, 3 de noviembre de 2013 y 7 de febrero de 2014, se observa en la documentación analizada, que en reunión de seguimiento, el 24 de febrero de 2014, la interventoría, "le recalca al operador la pronta entrega de los mejoramientos y es un llamado al cumplimiento para no afectar pólizas". Es decir, que desde esa fecha ya se había concluido sobre el incumplimiento del operador, no obstante en la documentación evaluada se observa que solo hasta el 16 de marzo de 2015, la interventoría presenta su informe, donde solicita la declaratoria de ocurrencia del siniestro .o riesgo de incumplimiento, lo que constituye el primer paso para aplicar cualquier mecanismo previsto para los casos de incumplimiento, de acuerdo a lo establecido en el numeral 11 del manual de contratación del ISVIMED adoptado mediante resolución 020 de febrero 16 de 2014. De acuerdo con información suministrada por ISVIMED, a mayo 25 de 2015, estaban en estudio los informes de supervisión para citar al Asociado a descargos. En estas condiciones, se concluye que el ISVIMED, no ha actuado con la debida celeridad y oportunidad para lograr la recuperación de estos recursos, configurándose una presunta vulneración al principio de la gestión fiscal de la eficiencia, cuantificada en $140.026.343. Esta situación constituye un hallazgo administrativo con presunta incidencia fiscal. | F8: Fiscal | G8: Adelantar el procesos sancionatorio establecido en la ley 1474 de 2011 art. 86, para establecer la responsabilidad del no cumplimiento del objeto del convenio dentro del plazo otorgado para ello, y recuperar los recursos público a que haya lugar. | H8: 42185 | I8: 42248 | J8: recuperar los recursos destinados para la ejecución del convenio y no ejecutados y sancionar al asociado incumplido, si hay lugar a ello. | K8: 42248 | L8: subdirección de apoyo jurídico | M8: Jaison alvarado | N8: 0.7 | O8: 0.5 | P8: Pese a los documentos aportados como evidencia, La CGM en Auditoría Regular Vigencia 2016, califico el cumplimiento en el 70% y la efectividad en 50%. No se cerró. (Ver matriz de evaluación remitida en correo del 14 de noviembre de 2017). Mediante las resoluciones 1390 y 1391 de agosto de 2017, se modificaron las resoluciones 1058 y 1822 de 2014, con las que se subsanaron 56 beneficiarios pendientes de ejecución de mejoramiento por el operador ASOCASA (quedan faltando 53 beneficiarios) Sigue pendiente 27 beneficiarios que se deben subsanar del operador AMUCAFAUM (se proyectará la resolución para hacerlos en el 2018 en el programa de Cerrar la Brecha. Se mantiene la calificación dada por la contraloría hasta tanto se subsanen los beneficiarios que aún quedan pendientes. Avance febrero 2018: Se culmino el procedimiento sancionatorio adelantado en contra de AMUCAFAUM, mediante la resolucion 1855 del 19 de diciembre de 2017 con radicado S1097. En ocasion de ejecución de las resoluciones 624, 702 y 1132 de 2013. Se envia notificación electrónica a la aseguradora Seguros del Estado de la resolucion 1855 para lo efectos legales respectivos. (copia correo) Avance mayo 2018: El 23 de febrero de 2018, SEGUROS DEL ESTADO S.A presentó solicitud de revocatoria directa en contra de la Resolución 1855 del 19 de diciembre de 2017. El 20 de abril de 2018 se expidió la Resolución 403, por la cual se resolvió la solicitud de revocatoria directa en contra de la Resolución 1855 del 19 de diciembre de 2017. | S8: 0 | T8: 0 | V8: AUDITORÍA ESPECIAL MEJORAMIENTO DE VIVIENDA | W8: Dotación Jurídica | X8: =+I8-H8 -> 63 | Y8: =+I8-$Y$4 -> -2744 | Z8: 43489 | AA8: Jurídica: El ISVIMED inicio un procedimiento sancionatorio contra AMUCAFAUM el 08 de julio de 2015 para recuperar el recurso entregado y no ejecutado, no obstante, en el transcurso del procedimiento sancionatario aludido, AMUCAFAUM culminó la ejecución de los recursos entregados y no ejecutados. | AB8: E19757 de 2018 (PAG 22) | AC8: 1. Resolucion 403 de 2018. 2. Resolución 1855 de 2017 | AD8: 1 | AE8: Seguimiento 04.01.2019: Este hallazgo continúa abierta de acuerdo al informe realizado por la Contraloría con radicado E15503 con fecha de 20.12.2018. Califican el cumplimiento de la acción y de la efectividad en 0%. | AF8: 0.5 | AG8: 0.5 | AH8: =IF($AG8="","",IF($AG8=100%,"Cerrado",IF($AG8<=39%,"CB",IF($AG8<=79%,"CM",IF($AG8<=99%,"CA",""))))) -> CM | AI8: Seguimiento 04.01.2019: Retomar el caso y realizar una trazabilidad del proyecto técnica, jurídica y financiera con cada uno de los soportes que validen el cierre de las acciones de manera efectiva. Las acciones deben estar dirigidas a recuperar los recursos. | AW8: =IF($AV8="","",IF($AV8=100%,"Cerrado",IF($AV8<=39%,"CB",IF($AV8<=79%,"CM",IF($AV8<=99%,"CA","")))))
A9: EVALUACIÓN FISCAL Y FINANCIERA VIGENCIA 2015 | B9: Abril de 2016 | C9: 1 | D9: Hallazgo Administrativo #1: Debilidades en el cumplimiento del Plan de Mejoramiento de la Auditoria Fiscal y Financiera; Si bien se identificó por parte del equipo auditor durante la evaluación del Plan de Mejoramiento en desarrollo de la Auditoría Fiscal y Financiera Vigencia 2015, que la entidad ha emprendido acciones para superar las deficiencias relacionadas con la demora en la liquidación de los convenios interadministrativos suscritos con la Empresa de Desarrollo Urbano –EDU y al proceso de nulidad y restablecimiento del derecho corresponde al pago de multas y sanciones a la DIAN, también es claro que la fecha establecida por la entidad fue el 31 de diciembre del 2014, y por desconocimiento no se solicitó a la Contraloría General de Medellín ampliación del plazo tal como lo establece la Resolución 149 de 2013. | F9: Administrativa | G9: Aunar esfuerzos para lograr las acciones de mejoramiento implementadas para los hallazgos adminstrativos de la auditoria fiscal y finaciera vigencia 2014 y realizar seguimiento mensual | H9: 42490 | I9: 42916 | J9: Dar cumplimiento a las acciones de mejoramiento implementadas en la auditoria de la vigencia 2014 | K9: 42916 | L9: Subdireccion de dotación de vivienda y habitat. Subdireccion Juridica, Subdireccion Administrativa y Finnaciera | M9: Claudia Patricia Cuartas Pescador. Isbel Cristina Aramburo Jaramillo, Francisco Javier Tabares Calderon | P9: LIQUIDACIÓN CONVENIOS EDU: Se aportó al equipo auditor la siguiente información: En memorando 400-157 del 30 de junio de 2017 (Paginas 1 A 9 y anexos No.1 A No.9, la subdirectora de Dotación argumenta las acciones tomadas y aporta los siguientes documentos: Acta de compensación (Convenio 284 de 2003; 142-143 de 2006; 4800000579 de 2004 y 515 de 2007). Acta de Compensación (Convenio Interadministrativo No.515 de 2007. Acta proceso de Cierre ( Convenio 4800000579 de 2004) Acta de ejecución (Convenio interadministrativo No.142-143 de 2006) Acta de liquidación definitiva (contrato 213-2009). Acta de liquidación Bilateral (Contrato 605-2008). Acta de liquidación (contrato interadministrativo No.46000035085 de 2011- otrosi 4600038437 de 2012). Comunicación remitida al Gerente de la EDU radicado S8069 del 16 de junio de 2017. Acta de reunión del 16 de mayo de 2017. La información aportada fue validada contra la certificación expedida por el contador del Isvimed el 12 de julio de 2017, de lo cual se pudo establecer que: A 31 de diciembre de 2012, los saldos de los libros de contabilidad de los convenios asociados al Hallazgo de la contraloría identificados en la Auditoría Especial Evaluación Fiscal y Financiera, pendientes por liquidar a esa fecha, ascendía a $8,464,623,946, representados en un total de 11 convenios. La situación a 30 de junio de 2017, muestra una disminución en el saldo de $-5,619,632,895, es decir, el -66,6%, quedando por liquidar un saldo de $2,844,991,051, saldo que está representado en 2 convenios: el 586 de 2004 (por $155,339,953); y el 002 del 2005 (por valor de $2,668,869,826). Se puede colegir un avance financiero de 66,6% y un avance en número de contratos liquidados del 81.8%, pues de los 11 convenios 9 registran en cero. Dado que esta acción no fue evaluada por la comisión de auditoría en la Auditoría Regular vigencia 2016 pero sí la retoma en Auditoria especial, no se califica, pues las evidencias se están aportando dentro de dicha auditoría | Q9: Seguimiento febrero 2018: Acta de ejecución parcial del Convenio 586 de 2004 que se firmó el 14 de noviembre del año 2017; este convenio no se puede liquidar completamente porque tiene recursos comprometidos con VIVA, sin embargo se realizó un cierre financiero para que los recursos no ejecutados fueran reintegrados al instituto por parte de la EDU lo cual efectivamente se realizó el 30 de noviembre de 2017. Se ha comunicado con la EDU para finiquitar los cierres financieros de los convenios 587 de 2004, 017 de 2005 y 138 de 2006, correo que a la fecha no ha sido contestado por parte de ellos. El convenio 002, esta en proceso de revisión para la liquidación, y se realizan cortes mensuales dentro de esta revisión, a la fecha se encuentra en un avance aproximado del 50%. Seguimiento a Marzo 2018: Dotación memorando 400-107 Se recibió respuesta a correos electrónicos enviados por parte del instituto a la EDU, donde se solicita una reunión, por tanto se programó dicha reunión para el 22 de marzo de 2018 con el contador del Instituto, la abogada de liquidaciones, el técnico de la subdireccion de dotación y el personal de la EDU con el fin de retomar los cierres financieros de los convenios 587 de 2004, 017 de 2005, 138 de 2006 y 605 de 2008. El convenio 002, esta en proceso de revisión para la liquidación, y se realizan cortes mensuales dentro de esta revisión, a la fecha se encuentra en un avance aproximado del 79,31%. Se anexa informe detallado con el estado de los convenios a la fecha. | R9: Avance a Mayo 2018: El 9 de noviembre de 2017, se suscribió con la EDU acta de ejecución parcial del convenio 586 de 2014, mediante la cual se reintegraron $155.339.953. Convenio 586 de 2004: El acta de ejecución parcial se firmó en noviembre de 2017; la EDU se encuentra depurando los saldos pendientes que reposan en la cuenta bancaria con el fin de finiquitar el cierre financiero. Convenio 138 de 2006: Pendiente de que la EDU entregue el soporte de los reintegros realizados en su momento de los recursos no ejecutados pertenecientes a este convenio; a la fecha esta información no ha sido suministrada y es indispensable para proceder con el cierre financiero. Convenio 587 de 2004: El acta de ejecución parcial donde se plantea el cierre financiero del proyecto se encuentra en revisión por parte del Contador del Isvimed. Convenio 017 de 2005: Se está a la espera de la revisión del acta de ejecución parcial (cierre financiero) del convenio por parte de la EDU. Convenio 605 de 2008: Se elaboró una aclaración al Acta de liquidación bilateral, con el fin de proceder con el reintegro de unos saldos pendientes al ISVIMED. Dicha aclaración se encuentra en proceso de firmas por ambas entidades y una vez esté firmada se procederá con el reintegro de los recursos por parte de la EDU. El convenio 002, esta en proceso de revisión para la liquidación, y se realizan cortes mensuales dentro de esta revisión, a la fecha se encuentra en un avance aproximado del 84%. Se conforma por parte de la EDU el personal encargado de la liquidación del convenio conformado por una abogada y un profesional administrativo, con el cual se intercambia información respecto al avance de la revisión financiera por parte del instituto. Se anexa informe detallado con el estado de los convenios a la fecha. Avance junio 2018: Admon y financiero: Avance según certificado del contador del 68.47%, pendiente por liquidar convenio 002 de 2005 por valor de $2.668.869.826. proceso que esta a cargo de la subdireccion de dotacion (anexo certificado contador). Se anexa informe detallado con el estado de los convenios a la fecha. | S9: 0.68 | T9: 0.68 | V9: EVALUACION FISCAL Y FINANCIERA VIGENCIA 2015 | W9: Dotación Administrativo y Financiero | X9: =+I9-H9 -> 426 | Y9: =+I9-$Y$4 -> -2076 | Z9: 43465 | AA9: Seguimiento Diciembre de 2018: Se han realizado reuniones entre personal del ISVIMED y personal de la EDU y reuniones internas entre personal de la EDU, en las cuales se ha avanzado en la depuración de los saldos pendientes de los convenios por liquidar para proceder con el cierre financiero parcial. A la fecha los avances son los siguientes: Convenio 586 de 2004: El acta de ejecución parcial se firmó en noviembre de 2017; la EDU se encuentra depurando los saldos pendientes que reposan en la cuenta bancaria y en la ficha financiera; existe un saldo de un recurso pendiente por liberar, sin embargo se debe liquidar el contrato asociado a este recurso para proceder con su liberación y reintegrarlo al instituto; El 22 de noviembre se realizó una reunión entre personal técnico, jurídico y financiero del Isvimed y personal técnico, jurídico y financiero de la EDU y respecto a este convenio aún se continua a la espera que el contratista pendiente firme el acta de liquidación para proceder a liberar los recursos; una vez la EDU liquide los contratos que tiene pendientes, se procederá con la elaboración del acta de ejecución parcial para realizar el cierre financiero del convenio. Convenio 138 de 2006: El 22 de noviembre se realizó una reunión entre personal técnico, jurídico y financiero del Isvimed y personal técnico, jurídico y financiero de la EDU; la EDU entrega soportes que explican el reintegro de los recursos faltantes relacionados con el convenio del asunto; dicha información fue revisada por el Contador del Instituto, para proceder con la proyección del acta de ejecución parcial con el cierre financiero del proyecto; a la fecha estamos a la espera del borrador del acta por parte de la EDU para proceder con la revisión por ambas partes, firmas y facturación de los recursos pendientes por reintegrar. Convenio 587 de 2004: El acta de ejecución parcial donde se plantea el cierre financiero del proyecto fue revisada por el Isvimed y fue enviada para firmas de la EDU el 13 de noviembre de 2018; Sin embargo, en reunión sostenida el 14 de diciembre de 2018, la EDU hace devolución del acta de ejecución parcial para actualizar los cargos de los profesionales encargados de la revisión por parte de la EDU; se actualiza el acta, se firma y se envía a la EDU para firmas; pendiente de la devolución firmada para cerrar financieramente el proyecto ya que no hay recursos por reintegrar. Convenio 017 de 2005: El acta de ejecución parcial donde se plantea el cierre financiero del proyecto fue revisada por el Isvimed y fue enviada para firmas de la EDU el 21 de noviembre de 2018; Sin embargo, en reunión sostenida el 14 de diciembre de 2018, la EDU hace devolución del acta de ejecución parcial para actualizar los cargos de los profesionales encargados de la revisión por parte de la EDU; se actualiza el acta, se firma y se envía a la EDU para firmas; pendiente de la devolución firmada para cerrar financieramente el proyecto y y facturación de los recursos pendientes por reintegrar. Convenio 605 de 2008: Se elaboró una aclaración al Acta de liquidación bilateral elaborada en diciembre de 2015, con el fin de definir el balance financiero para subsanar unos saldos pendientes que se tienen en la cuenta bancaria procedentes de unos contratistas que no han sido liquidados por la EDU; El 25 de octubre de 2018 la EDU envía para revisión del Isvimed la aclaración del acta de liquidación; la misma fue revisada y firmada por el personal del Isvimed y se envía a la EDU para firmas; Sin embargo en reunión sostenida el 14 de diciembre de 2018, la EDU presenta observaciones a la aclaración, las cuales se atienden y se envía nuevamente para firmas; pendiente de la devolución firmada para cerrar financieramente el proyecto y y facturación de los recursos pendientes por reintegrar. Convenio 002 de 2005: Según mesa de trabajo realizada el pasado 22 de noviembre entre el equipo del Isvimed y el equipo de la EDU que se encuentra a cargo de la liquidación de este convenio, se acordó revisar con base en el valor real ejecutado avalado hasta el momento por parte del Isvimed, la posible liquidación de honorarios que se tienen pendientes por cobrar por parte de la EDU; se envió oficio con el consolidado de la revisión financiera realizada en el instituto, de tal manera que la EDU con base en este consolidado aprobado envíe informe con la liquidación de los honorarios a cobrar para proceder con la revisión y aprobación de los mismos. En la próxima mesa de trabajo se debe resolver el tema del reinicio del contrato, una vez reiniciado el mismo cuenta con 2 días para su vencimiento; Una vez vencido, se procederá con el proceso de liquidación técnica, administrativa y financiera y se cuenta con 6 meses para la liquidación bilateral. Se anexa informe detallado con el estado de los convenios a la fecha. | AB9: Correo 27/12/2018, Asunto: Avances a Diciembre Plan de Mejoramiento CGM | AC9: 1. INFORME CONVENIOS EDU AL 28 DE DICIEMBRE DE 2018 PARA SEGUIMIENTO CONTRALORIA 2. Acta de Reunion Isvimed_EDU 01 octubre_2018 3. Acta de Reunion Isvimed_EDU_14 diciembre_2018 4. Acta de reunión Isvimed_EDU_22 noviembre_2018 5. Actas Reunión Isvimed_EDU_25 octubre_2018 6. Certificado de saldos contables de convenios. | AD9: 0.6 | AE9: Seguimiento 04.01.2019: Este hallazgo continúa abierta de acuerdo al informe realizado por la Contraloría con radicado E15503 con fecha de 20.12.2018. Califican el cumplimiento de la acción y de la efectividad en 68%, el decir, un cumplimiento parcial. | AF9: 0.7 | AG9: 0.7 | AH9: =IF($AG9="","",IF($AG9=100%,"Cerrado",IF($AG9<=39%,"CB",IF($AG9<=79%,"CM",IF($AG9<=99%,"CA",""))))) -> CM | AI9: Seguimiento 04.01.2019: Continuar realizando las gestiones de conciliación técnicas, jurídicas y financieras. La acción debe estar direccionada en liquidar todos los convenios celebrados con la EDU que se encuentran en etapa de cierre. | AW9: =IF($AV9="","",IF($AV9=100%,"Cerrado",IF($AV9<=39%,"CB",IF($AV9<=79%,"CM",IF($AV9<=99%,"CA","")))))
H10: 42490 | I10: 42916 | K10: 42916 | L10: Subdireccion de dotación de vivienda y habitat. Subdireccion Juridica, Subdireccion Administrativa y Finnaciera | M10: Claudia Patricia Cuartas Pescador. Isbel Cristina Aramburo Jaramillo, Francisco Javier Tabares Calderon | P10: Con relación a la DIAN: Según recibo de caja No.7201 del 29 de noviembre de 2016, se recuperaron $6,493,010 por concepto de reintegro parcial de sancion interpuesta por la DIAN que inicialmente se había fijado en $29,580,000. Mediante radicado S14981 del 10 de octubre de 2017, la Subdirectora Jurídica remitió toda la documentacion actuada en torno a la situacion fáctica analizada con relacion al pago de $29,580,000 que realizó la entidad, para conocimiento y fines pertinentes. Dado que esta acción no fue evaluada por la comisión de auditoría en la Auditoría Regular vigencia 2016, no se califica y quedará pendiente del cierra conjunto con el organismo de control. Avance mayo 2018: Dado que la información ya fue remitida a las respectivas autoridades competentes, ya no quedan mas acciones a llevar a cabo por parte del Instituto. | S10: 1 | T10: 1 | W10: Administrativo y Financiero | AE10: Seguimiento 04.01.2019: Este hallazgo fue cerrada de acuerdo al informe realizado por la Contraloría con radicado E15503 con fecha de 20.12.2018. Califican el cumplimiento de la acción y de la efectividad en 100%. | AF10: 1 | AG10: 1 | AH10: =IF($AG10="","",IF($AG10=100%,"Cerrado",IF($AG10<=39%,"CB",IF($AG10<=79%,"CM",IF($AG10<=99%,"CA",""))))) -> Cerrado | AI10: No aplica. | AW10: =IF($AV10="","",IF($AV10=100%,"Cerrado",IF($AV10<=39%,"CB",IF($AV10<=79%,"CM",IF($AV10<=99%,"CA","")))))
A11: Auditoría Regular Vigencia 2015 | B11: 42640 | C11: 5 | D11: Hallazgo administrativo 5 con presunta incidencia disciplinaria. Incumplimiento del Objeto Contractual. En la ejecución del convenio 339 de 2014 celebrado entre Isvimed y Asomedellín, se presentó una baja ejecución en la realización de hasta 300 diagnósticos y ejecuciones de subsidios de mejoramiento a viviendas ubicadas en diferentes comunas de la ciudad de Medellín. A 30 de junio de 2016 se han entregado un total de ochenta y cinco (85) mejoramientos, en un tiempo de ejecución inicial de cinco (5) meses y tres ampliaciones para un total de 21 meses y 26 días. Finalizado el plazo inicial y sus respectivas adiciones, se evidencia que sólo se ha recibido a satisfacción un 29% de los mejoramientos pactados. Así mismo, con fecha de corte al 30 de junio de 2016, la asociación sin ánimo de lucro Asomedellín, ha recibido de la administración recursos por valor de $2.172.940.000 correspondiente al 69% del valor de los mejoramientos pactados en el convenio y los mejoramientos efectivamente realizados ascienden solamente a un valor de $1.133.372.685, es decir una diferencia de $1.039.567.315. Estas condiciones de pago pactadas en el convenio, ponen en riesgo los recursos públicos al entregar al contratista más del 65% del valor total pactado, cuando apenas iniciaba la ejecución de los mejoramientos diagnosticados. La condición en comento, da surgimiento a un Hallazgo administrativo con presunta incidencia disciplinaria, la cual deriva de una deficiencia en los controles establecidos por parte de la supervisión asignada por la administración, ya que el operador actualmente dispone de estos recursos y no se está prestando la ayuda social a las familias beneficiarias; recursos éstos, que de no ser devueltos unilateral y voluntariamente por parte del contratista o subsidiariamente recuperados a través del trámite de cobertura de riesgos de las Garantías exigidas por parte del Isvimed, podría abrirse paso a un detrimento patrimonial desencadenante de un hallazgo con incidencia fiscal. Dicha situación causó afectaciones a los beneficiarios que no lograron mejorar sus viviendas debido al incumplimiento por parte del operador, y refleja graves falencias en el control y la supervisión por parte del Isvimed. Las posibles causas que determinan la condición encontrada se reflejan en: debilidades en la planeación contractual, el incumplimiento por parte del contratista Asomedellín en la entrega de los mejoramientos e incumplimiento de lo establecido en la cláusula Octava del convenio “Compromisos del asociado”. | F11: Administrativo con presunta incidencia disciplinaria. | G11: En la etapa precontractual, es decir durante los estudios que realizamos, se modificó la forma de pago en los convenios, es decir que el supervisor pague de acuerdo a un avance significativo tanto en los diagnósticos como en la ejecución de acuerdo a lo pactado y asi garantizar que se entregan solo los recursos al operador de acuerdo con la ejecución. Se modificó en los estudios la forma de pago de la siguiente manera: En la etapa de diagnóstico: * Desembolso N° 1: Cuarenta por ciento (40%) del valor total de los diagnósticos a realizar, a título de anticipo. Previo cumplimiento de los requisitos en el convenio. * Desembolso N° 2: Valor total del diagnóstico, contra ejecución del ciento por ciento (100%) del mismo, recibido a entera satisfacción por parte del Supervisor del Convenio. Se cancela con la respectiva amortización del anticipo. En la etapa de Ejecucion: * Desembolso N° 3: Cuarenta por ciento (40%) del valor total de la resolución que asigna el subsidio, a título de anticipo. * Desembolso N° 4: Valor total del subsidio de mejoramiento, contra ejecución del ciento por ciento (100%) del mismo, recibido a entera satisfacción por parte del Supervisor del Convenio. Se cancela con la respectiva amortización del anticipo. Mantener en el plan de capacitación del instituto para el tema de Manual de Supervisión e interventoría del ISVIMED y realizar una nueva capacitación frente al tema para reforzarlo. Para los contratos que se suscriban a partir del año 2017, se contratarán las correspondientes interventorías externas. Liquidar el convenio 339 de 2013, celebrado con el operador ASOMEDELLIN y recuperar los recursos entregados y no ejecutados, mediante varios mecanismos como la liquidación bilateral, unilateral o acciones legales según el marco de ley. Reasignar las supervisiones que actualmente se asignaron, de manera proporcional a la carga laboral del funcionario encargado. | H11: 42640 | I11: 42916 | J11: * Ejercer una efectiva supervisión y garantizar que los desembolsos correspondan a la real ejecución de los contratos y/o convenios. *Entregar recursos al operador de una forma adecuada y con los respectivos recibos por parte de la supervision. *Garantizar una adecuada designación de los supervisores para los contratos o convenios. | K11: 42916 | L11: Dirección Generales, Subdireccion de Apoyo Juridico y Subdireccion de Dotación de vivienda y Habitat | M11: Humberto Iglesias, Isabel Aramburo y Bibiana Castaño. | N11: 0.5 | O11: 0.5 | P11: Se aportaron las evidencias al equipo auditor, quienes la calificaron con cumplimiento parcial y la dejaron vigente en el informe definitivo de auditoría regular vigencia 2016, con la siguiente anotación: "En cuanto al Convenio suscrito con ASOMEDELLÍN, si bien el Instituto ha emprendido acciones tendientes a lograr el objetivo de recuperar los recursos entregados y no ejecutados por el operador por valor de $957.517.749 (datos y valores actualizados según informe final de supervisión del 30 de mayo de 2017), a la fecha no se ha logrado la efectiva recuperación de estos recursos, por lo tanto una vez se remita el informe definitivo se procederá a dar traslado a la Contraloría Auxiliar de Responsabilidad Fiscal para lo de su competencia". No obstante, El ISVIMED mediante Resolución 1365 de 2017 recuperó $318´360.000, como resultado de gestion de cobro de la póliza de cumplimiento ante SURAMERICANA, los cuales fueron ingresados a la caja del Isvimed el 23 de octubre de 2017. La administración pretende recuperar los otros recursos mediante el proceso Jurídico de cobro coactivo. Mientras esto sucede, se mantiene la calificación dada por la Contraloría del 50%. Avance febrero 2018: Se envia comunicado a ASOMEDELLIN con asunto citación para notificación personal del mandamiento de pago N° 1 del 15/12/2017, con radicado S21487. Soporte: Auto N°1 Por le cual se libra mandamiento de pago en contra de ASOMEDELLIN con ocasion del convenio 339 de 2014. Referencia de cobro coactivo. En el programa cierre de brechas con vigencia 2018, se le dará solución a las familias liderado desde la subdirección de dotación. (Presentación informe de la subdirección) Avance mayo 2018: A la fecha se encuentran embargados 4 inmuebles de propiedad del representante legal y mediante auto N° 3 se ordenó seguir adelante con la ejecución. Avance a junio: Informe de cierre de brechas. | S11: 0.5 | T11: 0.5 | V11: Auditoría Regular Vigencia 2015 | W11: Jurídica | X11: =+I11-H11 -> 276 | Y11: =+I11-$Y$4 -> -2076 | Z11: 43489 | AA11: Mediante contrato N° 657 de 2018, se realizaron los avaluos comerciales de los inmuebles embargados. Se pasara traslados de los avalúos al ejecutado y posteriormente se procederá con el secuestro. | AC11: Cuatro avaluos Comerciales. | AD11: 0.7 | AE11: Seguimiento 04.01.2019: Este hallazgo continúa abierta de acuerdo al informe realizado por la Contraloría con radicado E15503 con fecha de 20.12.2018. Califican el cumplimiento de la acción y de la efectividad en 50%, el decir, un cumplimiento parcial. | AF11: 0.5 | AG11: 0.5 | AH11: =IF($AG11="","",IF($AG11=100%,"Cerrado",IF($AG11<=39%,"CB",IF($AG11<=79%,"CM",IF($AG11<=99%,"CA",""))))) -> CM | AI11: Seguimiento 04.01.2019: Continuar con el proceso jurídico de tal manera que se haga efectivo los embargos y se recupere el recurso. | AW11: =IF($AV11="","",IF($AV11=100%,"Cerrado",IF($AV11<=39%,"CB",IF($AV11<=79%,"CM",IF($AV11<=99%,"CA","")))))
A12: Auditoría Regular Vigencia 2015 | B12: 42640 | C12: 6 | D12: Hallazgo administrativo 6 con presunta incidencia disciplinaria. Falencias en la Supervisión del Convenio 339 de 2014. Al verificar el cumplimiento de las labores de supervisión respecto al convenio 339 de 2014, el cual tiene por objeto “Aunar esfuerzos sociales, jurídicos, administrativos y financieros para realizar diagnósticos y ejecuciones de subsidio municipal para mejoramiento de viviendas ubicadas en el municipio de Medellín”, se encontraron debilidades en dicha labor, tales como: justificación para el otorgamiento de ampliaciones del plazo con poco avance de las obras, desembolso de recursos en una mayor proporción a lo efectivamente ejecutado y omisión de la obligación de poner en conocimiento tanto de la aseguradora como del gestor contractual el alto riesgo de incumplimiento del objeto contractual, con el fin de solicitar la declaratoria de la caducidad del convenio ya que se hacía evidente el bajo avance físico de las obras. La condición anotada contraria lo estipulado en la Ley 1474 de 2011, Artículo 83, que reza: “Supervisión e interventoría contractual. Con el fin de proteger la moralidad administrativa, de prevenir la ocurrencia de actos de corrupción y de tutelar la transparencia de la actividad contractual, las entidades públicas están obligadas a vigilar permanentemente la correcta ejecución del objeto contratado a través de un supervisor o un interventor, según corresponda. La supervisión consistirá en el seguimiento técnico, administrativo, financiero, contable, y jurídico que sobre el cumplimiento del objeto del contrato, es ejercida por la misma entidad estatal cuando no requieren conocimientos especializados. Para la supervisión, la Entidad estatal podrá contratar personal de apoyo, a través de los contratos de prestación de servicios que sean requeridos” Y, por su parte el artículo 85 de esta misma codificación, señala: “Facultades y deberes de los supervisores y los interventores. La supervisión e interventoría contractual implica el seguimiento al ejercicio del cumplimiento obligacional por la entidad contratante sobre las obligaciones a cargo del contratista. Los interventores y supervisores están facultados para solicitar informes, aclaraciones y explicaciones sobre el desarrollo de la ejecución contractual, y serán responsables por mantener informada a la entidad contratante de los hechos o circunstancias que puedan constituir actos de corrupción tipificados como conductas punibles, o que puedan poner o pongan en riesgo el cumplimiento del contrato, o cuando tal incumplimiento se presente”. Por todo lo anterior, se genera un hallazgo administrativo con presunta incidencia disciplinaria, como quiera que el hecho evidencia graves fallas en el control y en la supervisión ejercida por el Instituto, respecto al cumplimiento del objeto contractual por parte del operador, el cual a 30 de junio de 2016, fecha de terminación del contrato, no logró ejecutar los 291 mejoramientos diagnosticados y aprobados por el Isvimed, afectando los beneficiaros de dicho subsidio, quienes a la fecha no gozan de dicho beneficio por parte del Municipio de Medellín. Dentro de las posibles causas que determinan la condición encontrada se pueden citar: la falta de conocimiento sobre las funciones, responsabilidades y deberes de la supervisión: la existencia de procedimientos o normas inadecuadas, obsoletas o poco prácticas para el ejercicio de la labor y la sobrecarga de trabajo y responsabilidades de supervisión. | F12: Administrativo con presunta incidencia disciplinaria. | G12: Mantener en el plan de capacitación del instituto para el tema de Manual de Supervisión e interventoría del ISVIMED y realizar una nueva capacitación frente al tema para reforzarlo. Para los contratos que se suscriban a partir del año 2017, se contratarán las correspondientes interventorías externas. Liquidar el convenio 339 de 2013, celebrado con el operador ASOMEDELLIN y recuperar los recursos entregados y no ejecutados, mediante varios mecanismos como la liquidación bilateral, unilateral o acciones legales según el marco de ley. Reasignar las supervisiones que actualmente se asignaron, de manera proporcional a la carga laboral del funcionario encargado. | H12: 42640 | I12: 42916 | J12: * Ejercer una efectiva supervisión y garantizar que los desembolsos correspondan a la real ejecución de los contratos y/o convenios. *Entregar recursos al operador de una forma adecuada y con los respectivos recibos por parte de la supervision. *Garantizar una adecuada designación de los supervisores para los contratos o convenios. | K12: 42916 | L12: Direccion General, Subdireccion de Apoyo Juridico y Subdireccion de Dotación de vivienda y Habitat | M12: Humberto Iglesias; Isabel Aramburo y Bibiana Castaño. | N12: 0.5 | O12: 0.5 | P12: Se aportaron las evidencias al equipo auditor, quienes la calificaron con cumplimiento parcial y la dejaron vigente en el informe definitivo de auditoría regular vigencia 2016, con la siguiente anotación: "En cuanto al Convenio suscrito con ASOMEDELLÍN, si bien el Instituto ha emprendido acciones tendientes a lograr el objetivo de recuperar los recursos entregados y no ejecutados por el operador por valor de $957.517.749 (datos y valores actualizados según informe final de supervisión del 30 de mayo de 2017), a la fecha no se ha logrado la efectiva recuperación de estos recursos, por lo tanto una vez se remita el informe definitivo se procederá a dar traslado a la Contraloría Auxiliar de Responsabilidad Fiscal para lo de su competencia". No obstante, El ISVIMED mediante Resolución 1365 de 2017 recuperó $318´360.000, como resultado de gestion de cobro de la póliza de cumplimiento ante SURAMERICANA, los cuales fueron ingresados a la caja del Isvimed el 23 de octubre de 2017. La adminsitración pretende recuperar los otros recursos mediante el proceso Jurídico de cobro coactivo. Mientras esto sucede, se mantiene la calificación dada por la Contraloría del 50%. Seguimiento febrero 2018: Se envia comunicado a ASOMEDELLIN con asunto citación para notificaión personal del mandamiento de pago N° 1 del 15/12/2017, con radicado S21487. Soporte: Auto N°1 Por le cual se libra mandamiento de pago en contra de ASOMEDELLIN con ocasion del convenio 339 de 2014. Referencia de cobro coactivo. En el programa cierre de brechas con vigencia 2018, se le dará solucion a las familias. Avance mayo 2018: A la fecha se encuentran embargados 4 inmuebles de propiedad del representante legal y mediante auto N° 3 se ordenó seguir adelante con la ejecución. | S12: 0.5 | T12: 0.5 | V12: Auditoría Regular Vigencia 2015 | W12: Jurídica | X12: =+I12-H12 -> 276 | Y12: =+I12-$Y$4 -> -2076 | Z12: 43489 | AA12: Mediante contrato N° 657 de 2018, se realizaron los avaluos comerciales de los inmuebles embargados. Se pasara traslados de los avalúos al ejecutado y posteriormente se procederá con el secuestro. | AC12: Cuatro avaluos Comerciales. | AD12: 0.7 | AE12: Seguimiento 04.01.2019: Este hallazgo continúa abierta de acuerdo al informe realizado por la Contraloría con radicado E15503 con fecha de 20.12.2018. Califican el cumplimiento de la acción y de la efectividad en 50%, el decir, un cumplimiento parcial. | AF12: 0.5 | AG12: 0.5 | AH12: =IF($AG12="","",IF($AG12=100%,"Cerrado",IF($AG12<=39%,"CB",IF($AG12<=79%,"CM",IF($AG12<=99%,"CA",""))))) -> CM | AI12: Seguimiento 04.01.2019: Continuar con el proceso jurídico de tal manera que se haga efectivo los embargos y se recupere el recurso. | AW12: =IF($AV12="","",IF($AV12=100%,"Cerrado",IF($AV12<=39%,"CB",IF($AV12<=79%,"CM",IF($AV12<=99%,"CA","")))))
A13: Auditoría Regular Vigencia 2015 | B13: 42640 | C13: 10 | D13: Hallazgo administrativo 10 con presunta incidencia disciplinaria. Incumplimiento de las obligaciones contractuales. El Instituto Social de Vivienda y Hábitat de Medellín –Isvimed expidió la Resolución No. 271 del 11 de abril de 2013, por medio de la cual asignó subsidios municipales en dinero a 158 grupos familiares beneficiarios de la Organización Popular de Vivienda Funcodent, para la adquisición de vivienda nueva en el proyecto de interés prioritario Torres del Este II. El 30 de agosto de 2013, Isvimed aprobó y autorizó a través de la Fiduciaria, Alianza Fiduciaria S.A., garante de estos recursos, el pago del primer desembolso por valor de $391.192.200 a la OPV Funcodent sin haberse constituido para la fecha las pólizas que ampararan estos recursos. Esta situación constituye una presunta vulneración a los principios de Responsabilidad contenido en el artículo 26º de la Ley 80 de 1993, y el principio de eficacia de que trata el artículo 8º de la ley 42 de 1993, sin perjuicio del incumplimiento respecto a la finalidad del procedimiento establecido en la Resolución Interna No. 271 de 2013 artículo tercero donde establece que: “Esta entidad autorizará el pago de los subsidios asignados, en proporción al desarrollo del proyecto y con la presentación de las pólizas de garantía, constituidas por parte del Constructor en favor de la Organización Popular de Vivienda Funcodent y del Isvimed, así como contra entrega del informe de avance de obra certificado por la interventoría y la Subdirección Técnica del Instituto”. La falta de controles en los procesos de contratación puede generar riesgos en los recursos entregados. Lo anterior, configura un hallazgo administrativo con posible incidencia disciplinaria. | F13: Administrativo con presunta incidencia Disciplinaria | G13: En vista de la situación encontrada, desde noviembre de 2014 se suspendieron los desembolsos y por ahora se mantendrá esa postura, hasta tanto no se dé cumplimiento al requisito de las pólizas y/o garantías y a los demás que complementan los procedimientos y normas vigentes. Se implementará y aplicará en lo sucesivo para la autorización de los desembolsos a las OPV, un instructivo para pagos, el cual contendrá todos los requisitos necesarios, incluyendo las pólizas y/o garantías a que hubiere lugar, para autorizar el desembolso inicial, los desembolsos parciales y el pago final. | H13: 42640 | I13: 43281 | J13: Establecer las medidas necesarias para la protección efectiva delos recursos públicos. | K13: 43281 | L13: Subdireccion de Dotación de vivienda y Habitat | M13: Bibiana Castaño y Guiller Alvarez | N13: 0.5 | O13: 0.5 | P13: Las evidencias aportadas sobre el cumplimiento de esta acción, fueron calificadas por la CGM, con una eficacia parcial de 50%, en el Informe Definitivo de Auditoría Regular vigencia 2016, de noviembre 9 de 2017, consignó lo siguiente: "Teniendo en cuenta que el plazo de realización de la acción de mejora está establecido hasta el 30 de junio de 2018, y al compromiso que adquiere el Instituto Social de Vivienda y Hábitat de Medellín ISVIMED de recuperar dicho proyecto, se mantiene el hallazgo administrativo; pero que de no ser recuperado, acarreará el traslado del presunto hallazgo fiscal a la dependencia respectiva, en los términos definidos en el artículo 8 de la Ley 42 de 1993, tasado en $3.529.729.800." Por tanto, esta acción tampoco se califica en este informe. Avance febrero 2018: Actas de reunión de informe de Torres del Este. de fecha de octubre y noviembre 2017. (Memorando 600-057) Se cuenta con INSTRUCTIVO PARA REALIZAR DESEMBOLSOS A LAS OPV montado en la plataforma SIFI con código : I-GAF-11 y vigencia 08/03/2017, el cual es aplicado por el área responsable. Avance mayo 2018, dotación: Equipo técnico - social realiza seguimiento del proyecto torres del Este y FUNCODENT. Los desembolsos estan suspendidos desde diciembre de 2014. Se anexa copia: Informe técnico Torres del Este I y II. Acta de la Mesa Interinstitucional OPV, Ruta de trabajo Torres del Este y comunicado al Ministerio de Vivienda ruta de Torres del Este. Copia de la Porroga de Licencia de Construcción C2- 0039 del 17/02/2018 con vigencia hasta el 05/02/2019, ademas de 2 capacitaciones Propiedad Horizontal de Torres del Este. mesa interinstitucional de OPV. Avance junio: informe técnico de Torres del Este a la fecha. | S13: 1 | T13: 1 | V13: Auditoría Regular Vigencia 2015 | W13: Dotación | AE13: Seguimiento 04.01.2019: Este hallazgo fue cerrada de acuerdo al informe realizado por la Contraloría con radicado E15503 con fecha de 20.12.2018. Califican el cumplimiento de la acción y de la efectividad en 100%. | AF13: 1 | AG13: 1 | AH13: =IF($AG13="","",IF($AG13=100%,"Cerrado",IF($AG13<=39%,"CB",IF($AG13<=79%,"CM",IF($AG13<=99%,"CA",""))))) -> Cerrado | AI13: No aplica. | AW13: =IF($AV13="","",IF($AV13=100%,"Cerrado",IF($AV13<=39%,"CB",IF($AV13<=79%,"CM",IF($AV13<=99%,"CA","")))))
A14: Auditoría Regular Vigencia 2015 | B14: 42640 | C14: 11 | D14: Hallazgo administrativo 11. Incumplimiento de las obligaciones contractuales. El Instituto Social de Vivienda y Hábitat de Medellín –Isvimed expidió la Resolución No. 271 del 11 de abril de 2013 por medio de la cual asignó subsidios municipales en dinero a 158 grupos familiares beneficiarios de la Organización Popular de Vivienda Funcodent, para la adquisición de vivienda nueva en el proyecto de interés prioritario Torres del este II. El -Isvimed aprobó y autorizó a través de la Fiduciaria, Alianza Fiduciaria S.A., garante de estos recursos, el pago de $2.086.358.400 a la OPV Funcodent, valor equivalente al 64% de los recursos con un avance físico real de obra que se encontraba solo en un 18,8%, situación que no cumple con lo establecido en el artículo tercero de la Resolución interna No. 271 de 2013 que establece: “Esta entidad autorizará el pago de los subsidios asignados, en proporción al desarrollo del proyecto…. así como contra entrega del informe de avance de obra certificado por la interventoría y la Subdirección Técnica del Instituto”. La falta de controles en los procesos de contratación puede generar riesgos en los recursos entregados a terceros, situación que de no corregirse se podría configurar en un hallazgo con presunta incidencia fiscal. | F14: Administrativo con presunta incidencia Fiscal. | G14: Para subsanar el riesgo de pagar sin el avance real de las obras, se mantendrán suspendidos los desembolsos a la OPV FUNCODENT, hasta tanto no se evidencie el equilibrio entre el avance físico y el financiero. | H14: 42640 | I14: 43281 | J14: Establecer las medidas necesarias para la protección efectiva delos recursos públicos. | K14: 43281 | L14: Subdireccion de Dotación de vivienda y Habitat | M14: Bibiana Castaño y Guiller Alvarez | N14: 0.5 | O14: 0.5 | P14: Las evidencias aportadas sobre el cumplimiento de esta acción, fueron calificadas por la CGM, con una eficacia parcial de 50%, en el Informe Definitivo de Auditoría Regular vigencia 2016, de noviembre 9 de 2017, consignó lo siguiente: "Teniendo en cuenta que el plazo de realización de la acción de mejora está establecido hasta el 30 de junio de 2018, y al compromiso que adquiere el Instituto Social de Vivienda y Hábitat de Medellín ISVIMED de recuperar dicho proyecto, se mantiene el hallazgo administrativo; pero que de no ser recuperado, acarreará el traslado del presunto hallazgo fiscal a la dependencia respectiva, en los términos definidos en el artículo 8 de la Ley 42 de 1993, tasado en $3.529.729.800." Por tanto, esta acción tampoco se califica en este informe. Avance febrero 2018: Se evidencia memorando 500-289 de fecha de nov 20 de 2017, donde certifican no desembolsos. Avance mayo 2018, dotación: El ISVIMED, no ha realizado desembolsos de subsidios en dinero desde diciembre de 2014. El equipo de profesionales técnico - social vienen realizando visitas de seguimiento, También se realiza la Mesa de OPV - Torres del Este, donde se contextualiza la situación del proyecto y FUNCODENT, además se esta construyendo una Ruta de Trabajo para buscar alternativas de solución al proyecto. | S14: 1 | T14: 1 | V14: Auditoría Regular Vigencia 2015 | W14: Dotación | AE14: Seguimiento 04.01.2019: Este hallazgo fue cerrada de acuerdo al informe realizado por la Contraloría con radicado E15503 con fecha de 20.12.2018. Califican el cumplimiento de la acción y de la efectividad en 100%. | AF14: 1 | AG14: 1 | AH14: =IF($AG14="","",IF($AG14=100%,"Cerrado",IF($AG14<=39%,"CB",IF($AG14<=79%,"CM",IF($AG14<=99%,"CA",""))))) -> Cerrado | AI14: No aplica. | AW14: =IF($AV14="","",IF($AV14=100%,"Cerrado",IF($AV14<=39%,"CB",IF($AV14<=79%,"CM",IF($AV14<=99%,"CA","")))))
A15: Auditoria Regular- Evaluacion Componente Control Finaciero 2016- | B15: Mayo de 2017 | C15: 2 | D15: Saldos pendientes en la cuenta 151003 INVENTARIO DE MERCANCÍAS, correspondientes a proyectos habitacionales terminados, liquidados y totalmente adjudicados. El Instituto Social de Vivienda y Hábitat de Medellín – ISVIMED presenta en sus estados financieros a diciembre 31 de 2016, en la cuenta 1510 inventarios de mercancía en existencia, saldos pendientes de legalizar por valor de $7.405.844.419 tal circunstancia se evidenció en las pruebas de auditoría realizadas a la cuenta de inventarios, específicamente en los proyectos habitacionales Renaceres, Cantares IV y Cantares V, donde se constató que estos proyectos se encuentran terminados, que han sido asignados todos los subsidios de vivienda y que el fideicomiso está liquidado, incumpliendo los procedimientos establecidos en la resolución No 354 de 2007 por la cual se adopta el régimen de contabilidad pública, en lo referente al reconocimiento de los hechos económicos y sociales, así como lo dispuesto en la resolución No. 357 del 23 de julio de 2008 emanada en la Contaduría General de la Nación, por la cual se adopta el procedimiento de control interno contable, la cual en su instructivo indica que las entidades públicas deben adelantar las gestiones administrativas para depurar las cifras y demás datos contenidos en los estados, informes y reportes contables, de tal forma que estos cumplan las características cualitativas de confiabilidad, relevancia y comprensibilidad de que trata el marco conceptual del Plan General de Contabilidad Pública. | F15: Administrativa | G15: Actualizar mensualmente los saldos de la cuenta 151003 de acuerdo a las resoluciones de asignación de subsidios y circularizar con las demas áreas que intervienen en el proceso de fiducias e interventoria de proyectos constructivos ,sobre los contratos de fiducia y de construcción liquidados. | J15: Revelar en los estados contables , en la cuenta 151003-Construcciones- saldos actualizados, | K15: 43100 | L15: Subdireccion Administrativa y Financiera Subdirección Jurídica, Subdireccion de Dotacion de vivienda y habitat | M15: Cesar augusto Castaño jaramillo (subdirector Administrativo y Financiero), Laura Mesa Jaramillo (Subdirectora Juridica), Luz Bibiana Castaño Jaramillo (subdirectora de dotacion de vivienda y habitat), Fabian Dario Arango Lopez (asesor) | N15: N/A | O15: N/A | P15: En cumplimiento de esta acción el Contador aporta las actas No. 27; 28; 29; 30; 31; 32 y 33 del comité de Sostenibilidad contable en el que se evidencian las actividades llevadas a cabo para depurar y sanear la información contable. En el acta de reunión No.33 del 7 de diciembre de 2017, se observa que el porcentaje de avance del valor amortizado en la cuenta 151003, asciende al 51,85%, mientras que en el acta No.27 del 14 de julio de 2017 era de 25,23%, lo cual refleja un cumplimiento ´progresivo de la acción durante los meses de Junio a Noviembre de 2017; acciones que estan encaminadas a lograr una presentación del Balance General que refleja la realidad financiera del Instituto. Esta acción se califica con el porcentaje obtenido con corte al 30 de noviembre de 2017, sujeto a ajuste con el que se refleje con corte al 30 de diciembre de 2017, Seguimiento febrero 2018: Durante la vigencia 2017 se realizo la depuracion y saneamiento contable de la cuenta 151003-construcciones, de los proyectos Renaceres, Cantares IV y V que conformaban la cuantia de $7.405.844.419 , que sobrevaloraron los activos en la vigencia 2016 y se realizaron los respectivos registros contables (Anexo Ficha Tecnica # 13 de 2017, Aj # 8440-8568-8458 de 2017). En la vigencia 2017 se actualizó la cuenta 151003-construcciones, atendiendo el procedimiento contable establecido y soportado en las resoluciones de asignacion de subsidios, esta actividad se puede evidenciar en el INFORME CUENTA INVENTARIOS (151003 construcciones) con corte al 31/12/2017 y en el INFORME DE AVANCE DEL PROCESO DE DEPURACION CONTABLE con corte al 31/12/2017, en el cual se puede evidenciar un saldo de los proyectos de acuerdo al numero de unidades pendientes de asignacion de subsidios (anexo informes). Avance junio 2018, admon y financiero: al 31/12/2017 se sanearon los cuatro proyectos que generaron la incidencia de tipo administrativo, información que se puede evidenciar plenamente en el acta # 34 del CTSC de fecha 28/12/2017, explicitamente en la fica técnica # 13-2017 (anexo acta # 34 CTSC, ficha tecnica # 13-2017) | S15: 1 | T15: 1 | V15: Auditoria Regular- Evaluacion Componente Control Finaciero 2016- | W15: Administrativo y Financiero | AE15: Seguimiento 04.01.2019: Este hallazgo fue cerrada de acuerdo al informe realizado por la Contraloría con radicado E15503 con fecha de 20.12.2018. Califican el cumplimiento de la acción y de la efectividad en 100%. | AF15: 1 | AG15: 1 | AH15: =IF($AG15="","",IF($AG15=100%,"Cerrado",IF($AG15<=39%,"CB",IF($AG15<=79%,"CM",IF($AG15<=99%,"CA",""))))) -> Cerrado | AI15: No aplica. | AW15: =IF($AV15="","",IF($AV15=100%,"Cerrado",IF($AV15<=39%,"CB",IF($AV15<=79%,"CM",IF($AV15<=99%,"CA","")))))
