Workbook

Sheet Aspectos críticos 
B2: COMPONENTE | C2: ITEMS | D2: ASPECTOS CRÍTICOS | E2: RIESGOS
B3: ESTRATEGICO | C3: 1 | D3: La Política y el Programa de Gestión Documental (PGD) presentan brechas estructurales por la omisión de componentes exigidos por el AGN y el modelo MIPG, lo cual dificulta la estandarización de procesos y el cumplimiento de los objetivos de transparencia institucional | E3: • Pérdida parcial o total de la información. • Disminución de la capacidad de respuesta a solicitudes de información. • Incumplimiento de la normatividad archivística colombiana. | F3: Falta de articulación Normativa y Estratégica
C4: 2 | D4: Las Tablas de Retención Documental (TRD) no reflejan la realidad operativa ni las necesidades actuales de la institución. Se requiere una actualización integral que incluya: - Identificación de series y subseries sobre derechos humanos, memoria histórica y conflicto armado. - Inclusión y valoración de archivos en nuevos soportes (fotográficos, sonoros, audiovisuales y electrónicos). | E4: • Pérdida parcial o total de la información • Debilidad en el valor probatorio de los documentos | F4: Desactualización de los Instrumentos Archivisticos
B5: ADMINISTRACION DE ARCHIVOS | C5: 3 | D5: La entidad presenta un déficit crítico en espacios físicos de almacenamiento, incumpliendo con la normativa de las tres fases del archivo (Gestión, Central e Histórico). Actualmente, el depósito existente no reúne las condiciones técnicas de conservación (clima, estantería, seguridad), lo que pone en riesgo la preservación de la memoria institucional y la integridad física de los documentos. | E5: • Pérdida parcial o total de la información • Disminución de la capacidad de respuesta a solicitudes de información. • Acumulación de documentos en las dependencias. Acumulación del acervo documental | F5: Infraestructura Física y Condiciones de Conservación Deficientes
B6: PROCESOS DE GESTIÓN DOCUMENTAL | C6: 4 | D6: La entidad presenta vacíos en la planificación a largo plazo, específicamente por la desactualización del Plan de Conservación Documental y el Plan de Preservación Digital a Largo Plazo. Asimismo, se requiere formalizar el procedimiento de valoración documental para asegurar una disposición final adecuada y técnica de los expedientes. | E6: • Pérdida parcial o total de la información. • Disminución de la capacidad de respuesta a solicitudes de información. • Incumplimiento de la normatividad archivística colombiana. | F6: Desactualizacion de planes
C7: 5 | D7: Existe una falta de regulación y criterios técnicos definidos para el uso de medios y técnicas de reproducción (reprografía). Esto impacta la eficiencia en la duplicación de información y la seguridad de las copias generadas en soporte físico o digital. | E7: • Pérdida parcial o total de la información • Incumplimiento de la normatividad archivística colombiana. • Acumulación de documentos en las dependencias. | F7: Gestión de Medios y Reprografía
B8: TECNOLOGICO | C8: 6 | D8: La plataforma actual requiere ajustes urgentes para cumplir con los requerimientos legales y técnicos, incluyendo la elaboración del Modelo de Requisitos para la Gestión de Documentos Electrónicos de Archivo. | E8: • Obsolescencia tecnológica • Ineficiencia operacional | F8: Transformación Digital y SGDEA
C9: 7 | D9: Es crítico avanzar en la implementación y parametrización del Sistema de Gestión de Documentos Electrónicos de Archivo (SGDEA), tomando como base el modelo de requisitos mencionado. | E9: • Pérdida parcial o total de la información. • Disminución de la capacidad de respuesta a solicitudes de información. • Incumplimiento a la normatividad archivística colombiana. | F9: Transformación Digital y SGDEA
C10: 8 | D10: Se requiere estandarizar la conformación de expedientes electrónicos bajo los principios de la gestión documental y los instrumentos archivísticos vigentes, tales como el CCD y las TRD. | E10: • Pérdida parcial o total de la información. • Incumplimiento a la normatividad archivística colombiana. | F10: Transformación Digital y SGDEA
B11: CULTURAL | C11: 9 | D11: Se evidencia la necesidad de fortalecer el Programa de Gestión del Conocimiento y Memoria Institucional. Actualmente, no se cuenta con mecanismos de difusión efectivos que permitan socializar el patrimonio documental de la entidad y asegurar que el conocimiento institucional sea accesible y preservado para el futuro | E11: • Pérdida parcial o total de la información. • Disminución de la capacidad de respuesta a solicitudes de información. • Incumplimiento a la normatividad archivística colombiana. | F11: Gestión del Conocimiento y Memoria Institucional
C12: 10 | D12: No se dispone de un Plan de capacitación que involucre a la totalidad del talento humano. La falta de formación técnica tanto para funcionarios de planta como para contratistas genera disparidad en la aplicación de procesos archivísticos, aumentando la probabilidad de errores en la producción y organización documental. | E12: • Ineficiencia operacional. • Series, Subseries y tipos documentales creados sin ningún control. • Desconocimiento en norma archivística colombiana.

Sheet Evaluación 
A1: EJES ARTICULADORES
A4: 1. La Política y el Programa de Gestión Documental (PGD) presentan brechas estructurales por la omisión de componentes exigidos por el AGN y el modelo MIPG. | L4: Orden | M4: Aspectos críticos | N4: Administración de archivos | O4: Acceso a la información | P4: Preservación de la información | Q4: Aspectos tecnológicos y de seguridad | R4: Fortalecimiento y articulación | S4: Total
A5: Administración de archivos | B5: Puntuación | C5: Acceso a la información | D5: Puntuación | E5: Preservación de la información | F5: Puntuación | G5: Aspectos tecnológicos y de seguridad | H5: Puntuación | I5: Fortalecimiento y articulación | L5: 1 | M5: La Política y el Programa de Gestión Documental (PGD) presentan brechas estructurales por la omisión de componentes exigidos por el AGN y el modelo MIPG, lo cual dificulta la estandarización de procesos y el cumplimiento de los objetivos de transparencia institucional | N5: 8 | O5: 8 | P5: 6 | Q5: 6 | R5: 7 | S5: =SUM(N5:R5) -> 35
A6: Se considera el ciclo vital de los documentos integrando aspectos administrativos, legales, funcionales y técnicos | B6: 1 | C6: Se cuentan con políticas que garanticen la disponibilidad y accesibilidad a la información | D6: 1 | E6: Se cuenta con procesos y herramientas normalizados para la preservación y conservación a largo plazo de los documentos | F6: 1 | G6: Se cuenta con políticas asociadas a las herramientas tecnológicas que respaldan la seguridad, usabilidad, accesibilidad, integridad y autenticidad de la información | H6: 1 | I6: La gestión documental se encuentra implantada acorde con el modelo integrado de planeación y gestión | J6: 1 | L6: 2 | M6: Las Tablas de Retención Documental (TRD) no reflejan la realidad operativa ni las necesidades actuales de la institución. Se requiere una actualización integral que incluya: - Identificación de series y subseries sobre derechos humanos, memoria histórica y conflicto armado. - Inclusión y valoración de archivos en nuevos soportes (fotográficos, sonoros, audiovisuales y electrónicos). | N6: 7 | O6: 7 | P6: 8 | Q6: 3 | R6: 8 | S6: =SUM(N6:R6) -> 33
A7: Se cuenta con todos los instrumentos archivísticos socializados e implementados | B7: 1 | C7: Se cuenta con personal idóneo y suficiente para atender las necesidades documentales y de archivo de los ciudadanos | D7: 0 | E7: Se cuenta con un esquema de metadatos, integrado a otros sistemas de gestión | F7: 0 | G7: Se cuenta con herramientas tecnológicas acorde a las necesidades de la entidad, las cuales permiten hacer buen uso de los documentos | H7: 0 | I7: Se tiene articulada la política de gestión documental con los sistemas y modelos de gestión de las entidad | J7: 1 | L7: 3 | M7: La entidad presenta un déficit crítico en espacios físicos de almacenamiento, incumpliendo con la normativa de las tres fases del archivo (Gestión, Central e Histórico). Actualmente, el depósito existente no reúne las condiciones técnicas de conservación (clima, estantería, seguridad), lo que pone en riesgo la preservación de la memoria institucional y la integridad física de los documentos. | N7: 5 | O7: 6 | P7: 4 | Q7: 8 | R7: 7 | S7: =SUM(N7:R7) -> 30
A8: Se cuenta con procesos de seguimiento, evaluación y mejora para la gestión de documentos | B8: 1 | C8: Se cuentan con esquemas de comunicación en la entidad para difundir la importancia de la gestión de documentos | D8: 1 | E8: Se cuenta con archivos centrales e históricos | F8: 0 | G8: Se cuenta con acuerdos de confidencialidad y políticas de protección de datos a nivel interno y con terceros | H8: 0 | I8: Se cuenta con alianzas estratégicas que permitan mejorar e innovar la función archivística de la entidad | J8: 1 | L8: 4 | M8: La entidad presenta vacíos en la planificación a largo plazo, específicamente por la desactualización del Plan de Conservación Documental y el Plan de Preservación Digital a Largo Plazo. Asimismo, se requiere formalizar el procedimiento de valoración documental para asegurar una disposición final adecuada y técnica de los expedientes. | N8: 5 | O8: 5 | P8: 6 | Q8: 6 | R8: 5 | S8: =SUM(N8:R8) -> 27
A9: Se tiene establecida la Política de Gestión Documental | B9: 1 | C9: Se cuentan con esquemas de capacitación y formación internos para la gestión de documentos, articulados con el Plan Institucional de Capacitación | D9: 1 | E9: La conservación y preservación se basa en la normatividad, requisitos legales, administrativos y técnicos que le aplican a la entidad | F9: 1 | G9: Se cuenta con políticas que permiten adoptar tecnologías que contemplan servicios y contenidos orientados a la gestión de documentos | H9: 1 | I9: Se aplica el marco legal y normativo concemiente a la función archivística | J9: 1 | L9: 5 | M9: Existe una falta de regulación y criterios técnicos definidos para el uso de medios y técnicas de reproducción (reprografía). Esto impacta la eficiencia en la duplicación de información y la seguridad de las copias generadas en soporte físico o digital. | N9: 5 | O9: 3 | P9: 3 | Q9: 8 | R9: 4 | S9: =SUM(N9:R9) -> 23
A10: Los instrumentos archivisticos involucran la documentación electrónica | B10: 1 | C10: Se cuentan con instrumentos archivísticos de descripción y clasificación para sus archivos | D10: 1 | E10: Se cuenta con un Sistema Integrado de Conservación | F10: 1 | G10: Las aplicaciones son capaces de generar y gestionar documentos de valor archivísticos cumpliendo con los procesos establecidos | H10: 1 | I10: Se cuenta con un sistema de gestión documental basado en estándares nacionales e internacionales | J10: 1 | L10: 6 | M10: Se requiere estandarizar la conformación de expedientes electrónicos bajo los principios de la gestión documental y los instrumentos archivísticos vigentes, tales como el CCD y las TRD. | N10: 3 | O10: 4 | P10: 4 | Q10: 7 | R10: 4 | S10: =SUM(N10:R10) -> 22
A11: Se cuenta con procesos y flujos documentales normalizados y medibles | B11: 0 | C11: El personal hace buen uso de las herramientas tecnológicas destinadas a la administración de la información de la entidad | D11: 1 | E11: Se cuenta con una infraestructura adecuada para el almacenamiento, conservación y preservación de la documentación física y electrónica | F11: 0 | G11: Se encuentra estandarizada la administración y gestión de la información y los datos en herramientas tecnológicas articuladas con el sistema de seguridad de la información y los procesos archivísticos | H11: 1 | I11: Se tienen implementadas acciones para la gestión del cambio | J11: 1 | L11: 7 | M11: La plataforma actual requiere ajustes urgentes para cumplir con los requerimientos legales y técnicos, incluyendo la elaboración del Modelo de Requisitos para la Gestión de Documentos Electrónicos de Archivo. | N11: 5 | O11: 3 | P11: 4 | Q11: 5 | R11: 2 | S11: =SUM(N11:R11) -> 19
A12: Se documentan procesos o actividades de gestión documental | B12: 1 | C12: Se ha establecido la caracterización de los usuarios de acuerdo a sus necesidades de información | D12: 1 | E12: Se cuenta con proceso documentados de valoración y disposición | F12: 1 | G12: Se cuentan con mecanismos técnicos que permitan mejorar la adquisición, uso y mantenimiento de las herramientas tecnológicas | H12: 0 | I12: Se cuenta con procesos de mejora continua | J12: 0 | L12: 8 | M12: Es crítico avanzar en la implementación y parametrización del Sistema de Gestión de Documentos Electrónicos de Archivo (SGDEA), tomando como base el modelo de requisitos mencionado. | N12: 3 | O12: 3 | P12: 3 | Q12: 6 | R12: 2 | S12: =SUM(N12:R12) -> 17
A13: Se cuenta con la infraestructura adecuada para resolver las necesidades documentales y de archivo | B13: 1 | C13: Se cuenta con iniciativa para fomentar el uso de nuevas tecnologías para optimizar el uso del papel | D13: 1 | E13: Se tiene implementado estándares que garanticen la preservación y conservación de los documentos | F13: 1 | G13: Se cuenta con tecnologías asociadas al servicio al ciudadano, que le permita la participación e interacción. | H13: 1 | I13: Se cuenta con instancia asesoras que formulen lineamientos para la aplicación de la función archivística de la entidad | J13: 0 | L13: 9 | M13: No se dispone de un Plan de capacitación que involucre a la totalidad del talento humano. La falta de formación técnica tanto para funcionarios de planta como para contratistas genera disparidad en la aplicación de procesos archivísticos, aumentando la probabilidad de errores en la producción y organización documental. | N13: 3 | O13: 6 | P13: 0 | Q13: 1 | R13: 3 | S13: =SUM(N13:R13) -> 13
A14: El personal de la entidad cuenta con la importancia de los documentos e interioriza las políticas y directrices concernientes a la gestión de los documentos | B14: 1 | C14: Se tiene implementada la estrategia de Gobierno en Linea - GEL | D14: 1 | E14: Se cuenta con esquemas de migración y conversión normalizados | F14: 1 | G14: Se cuenta con modelos para la identificación, evaluación y análisis del riesgos | H14: 0 | I14: Se tiene identificado los roles y responsabilidades del personal y las áreas frente a los documentos | J14: 1 | L14: 10 | M14: Se evidencia la necesidad de fortalecer el Programa de Gestión del Conocimiento y Memoria Institucional. Actualmente, no se cuenta con mecanismos de difusión efectivos que permitan socializar el patrimonio documental de la entidad y asegurar que el conocimiento institucional sea accesible y preservado para el futuro | N14: 3 | O14: 6 | P14: 1 | Q14: 0 | R14: 3 | S14: =SUM(N14:R14) -> 13
A15: Se cuenta con el presupuesto adecuado para atender las necesidades documentales y de archivo | B15: 0 | C15: Se cuenta con canales locales y en línea de servicio, atención y orientación al ciudadano | D15: 0 | E15: Se cuenta con modelos o esquemas de continuidad de negocios | F15: 0 | G15: Se cuenta con directrices de seguridad de información con relación al recurso humano, al entorno físico y electrónico, el acceso y los sistemas de información | H15: 1 | I15: La alta dirección está comprometida con el desarrollo de la función archivística de la entidad | J15: 0 | S15: =SUM(N15:R15) -> 0
B16: =SUM(B6:B15) -> 8 | D16: =SUM(D6:D15) -> 8 | F16: =SUM(F6:F15) -> 6 | H16: =SUM(H6:H15) -> 6 | J16: =SUM(J6:J15) -> 7
A18: 2. Las Tablas de Retención Documental (TRD) no reflejan la realidad operativa ni las necesidades actuales del Instituto -
A19: Administración de archivos | B19: Puntuación | C19: Acceso a la información | D19: Puntuación | E19: Preservación de la información | F19: Puntuación | G19: Aspectos tecnológicos y de seguridad | H19: Puntuación | I19: Fortalecimiento y articulación | J19: Puntuación
A20: Se considera el ciclo vital de los documentos integrando aspectos administrativos, legales, funcionales y técnicos | B20: 1 | C20: Se cuentan con políticas que garanticen la disponibilidad y accesibilidad a la información | D20: 1 | E20: Se cuenta con procesos y herramientas normalizados para la preservación y conservación a largo plazo de los documentos | F20: 1 | G20: Se cuenta con políticas asociadas a las herramientas tecnológicas que respaldan la seguridad, usabilidad, accesibilidad, integridad y autenticidad de la información | H20: 1 | I20: La gestión documental se encuentra implantada acorde con el modelo integrado de planeación y gestión | J20: 1
A21: Se cuenta con todos los instrumentos archivísticos socializados e implementados | B21: 1 | C21: Se cuenta con personal idóneo y suficiente para atender las necesidades documentales y de archivo de los ciudadanos | D21: 1 | E21: Se cuenta con un esquema de metadatos, integrado a otros sistemas de gestión | F21: 0 | G21: Se cuenta con herramientas tecnológicas acorde a las necesidades de la entidad, las cuales permiten hacer buen uso de los documentos | H21: 0 | I21: Se tiene articulada la política de gestión documental con los sistemas y modelos de gestión de las entidad | J21: 1
A22: Se cuenta con procesos de seguimiento, evaluación y mejora para la gestión de documentos | B22: 0 | C22: Se cuentan con esquemas de comunicación en la entidad para difundir la importancia de la gestión de documentos | D22: 0 | E22: Se cuenta con archivos centrales e históricos | F22: 1 | G22: Se cuenta con acuerdos de confidencialidad y políticas de protección de datos a nivel interno y con terceros | H22: 0 | I22: Se cuenta con alianzas estratégicas que permitan mejorar e innovar la función archivística de la entidad | J22: 0
A23: Se tiene establecida la Política de Gestión Documental | B23: 1 | C23: Se cuentan con esquemas de capacitación y formación internos para la gestión de documentos, articulados con el Plan Institucional de Capacitación | D23: 1 | E23: La conservación y preservación se basa en la normatividad, requisitos legales, administrativos y técnicos que le aplican a la entidad | F23: 1 | G23: Se cuenta con políticas que permiten adoptar tecnologías que contemplan servicios y contenidos orientados a la gestión de documentos | H23: 0 | I23: Se aplica el marco legal y normativo concemiente a la función archivística | J23: 1
A24: Los instrumentos archivisticos involucran la documentación electrónica | B24: 1 | C24: Se cuentan con instrumentos archivísticos de descripción y clasificación para sus archivos | D24: 1 | E24: Se cuenta con un Sistema Integrado de Conservación | F24: 1 | G24: Las aplicaciones son capaces de generar y gestionar documentos de valor archivísticos cumpliendo con los procesos establecidos | H24: 1 | I24: Se cuenta con un sistema de gestión documental basado en estándares nacionales e internacionales | J24: 1
A25: Se cuenta con procesos y flujos documentales normalizados y medibles | B25: 1 | C25: El personal hace buen uso de las herramientas tecnológicas destinadas a la administración de la información de la entidad | D25: 1 | E25: Se cuenta con una infraestructura adecuada para el almacenamiento, conservación y preservación de la documentación física y electrónica | F25: 1 | G25: Se encuentra estandarizada la administración y gestión de la información y los datos en herramientas tecnológicas articuladas con el sistema de seguridad de la información y los procesos archivísticos | H25: 1 | I25: Se tienen implementadas acciones para la gestión del cambio | J25: 1
A26: Se documentan procesos o actividades de gestión documental | B26: 1 | C26: Se ha establecido la caracterización de los usuarios de acuerdo a sus necesidades de información | D26: 0 | E26: Se cuenta con proceso documentados de valoración y disposición | F26: 1 | G26: Se cuentan con mecanismos técnicos que permitan mejorar la adquisición, uso y mantenimiento de las herramientas tecnológicas | H26: 0 | I26: Se cuenta con procesos de mejora continua | J26: 1
A27: Se cuenta con la infraestructura adecuada para resolver las necesidades documentales y de archivo | B27: 0 | C27: Se cuenta con iniciativa para fomentar el uso de nuevas tecnologías para optimizar el uso del papel | D27: 0 | E27: Se tiene implementado estándares que garanticen la preservación y conservación de los documentos | F27: 1 | G27: Se cuenta con tecnologías asociadas al servicio al ciudadano, que le permita la participación e interacción. | H27: 0 | I27: Se cuenta con instancia asesoras que formulen lineamientos para la aplicación de la función archivística de la entidad | J27: 0
A28: El personal de la entidad cuenta con la importancia de los documentos e interioriza las políticas y directrices concernientes a la gestión de los documentos | B28: 0 | C28: Se tiene implementada la estrategia de Gobierno en Linea - GEL | D28: 1 | E28: Se cuenta con esquemas de migración y conversión normalizados | F28: 1 | G28: Se cuenta con modelos para la identificación, evaluación y análisis del riesgos | H28: 0 | I28: Se tiene identificado los roles y responsabilidades del personal y las áreas frente a los documentos | J28: 1
A29: Se cuenta con el presupuesto adecuado para atender las necesidades documentales y de archivo | B29: 1 | C29: Se cuenta con canales locales y en línea de servicio, atención y orientación al ciudadano | D29: 1 | E29: Se cuenta con modelos o esquemas de continuidad de negocios | F29: 0 | G29: Se cuenta con directrices de seguridad de información con relación al recurso humano, al entorno físico y electrónico, el acceso y los sistemas de información | H29: 0 | I29: La alta dirección está comprometida con el desarrollo de la función archivística de la entidad | J29: 1
B30: =SUM(B20:B29) -> 7 | D30: =SUM(D20:D29) -> 7 | F30: =SUM(F20:F29) -> 8 | H30: =SUM(H20:H29) -> 3 | J30: =SUM(J20:J29) -> 8
A32: 3. La entidad presenta un déficit crítico en espacios físicos de almacenamiento
A33: Administración de archivos | B33: Puntuación | C33: Acceso a la información | D33: Puntuación | E33: Preservación de la información | F33: Puntuación | G33: Aspectos tecnológicos y de seguridad | H33: Puntuación | I33: Fortalecimiento y articulación | J33: Puntuación
A34: Se considera el ciclo vital de los documentos integrando aspectos administrativos, legales, funcionales y técnicos | B34: 1 | C34: Se cuentan con políticas que garanticen la disponibilidad y accesibilidad a la información | D34: 1 | E34: Se cuenta con procesos y herramientas normalizados para la preservación y conservación a largo plazo de los documentos | F34: 0 | G34: Se cuenta con políticas asociadas a las herramientas tecnológicas que respaldan la seguridad, usabilidad, accesibilidad, integridad y autenticidad de la información | H34: 1 | I34: La gestión documental se encuentra implantada acorde con el modelo integrado de planeación y gestión | J34: 1
A35: Se cuenta con todos los instrumentos archivísticos socializados e implementados | B35: 0 | C35: Se cuenta con personal idóneo y suficiente para atender las necesidades documentales y de archivo de los ciudadanos | D35: 1 | E35: Se cuenta con un esquema de metadatos, integrado a otros sistemas de gestión | F35: 0 | G35: Se cuenta con herramientas tecnológicas acorde a las necesidades de la entidad, las cuales permiten hacer buen uso de los documentos | H35: 1 | I35: Se tiene articulada la política de gestión documental con los sistemas y modelos de gestión de las entidad | J35: 1
A36: Se cuenta con procesos de seguimiento, evaluación y mejora para la gestión de documentos | B36: 0 | C36: Se cuentan con esquemas de comunicación en la entidad para difundir la importancia de la gestión de documentos | D36: 1 | E36: Se cuenta con archivos centrales e históricos | F36: 0 | G36: Se cuenta con acuerdos de confidencialidad y políticas de protección de datos a nivel interno y con terceros | H36: 0 | I36: Se cuenta con alianzas estratégicas que permitan mejorar e innovar la función archivística de la entidad | J36: 1
A37: Se tiene establecida la Política de Gestión Documental | B37: 0 | C37: Se cuentan con esquemas de capacitación y formación internos para la gestión de documentos, articulados con el Plan Institucional de Capacitación | D37: 1 | E37: La conservación y preservación se basa en la normatividad, requisitos legales, administrativos y técnicos que le aplican a la entidad | F37: 0 | G37: Se cuenta con políticas que permiten adoptar tecnologías que contemplan servicios y contenidos orientados a la gestión de documentos | H37: 0 | I37: Se aplica el marco legal y normativo concemiente a la función archivística | J37: 1
A38: Los instrumentos archivisticos involucran la documentación electrónica | B38: 1 | C38: Se cuentan con instrumentos archivísticos de descripción y clasificación para sus archivos | D38: 1 | E38: Se cuenta con un Sistema Integrado de Conservación | F38: 1 | G38: Las aplicaciones son capaces de generar y gestionar documentos de valor archivísticos cumpliendo con los procesos establecidos | H38: 1 | I38: Se cuenta con un sistema de gestión documental basado en estándares nacionales e internacionales | J38: 1
A39: Se cuenta con procesos y flujos documentales normalizados y medibles | B39: 0 | C39: El personal hace buen uso de las herramientas tecnológicas destinadas a la administración de la información de la entidad | D39: 0 | E39: Se cuenta con una infraestructura adecuada para el almacenamiento, conservación y preservación de la documentación física y electrónica | F39: 0 | G39: Se encuentra estandarizada la administración y gestión de la información y los datos en herramientas tecnológicas articuladas con el sistema de seguridad de la información y los procesos archivísticos | H39: 1 | I39: Se tienen implementadas acciones para la gestión del cambio | J39: 0
A40: Se documentan procesos o actividades de gestión documental | B40: 0 | C40: Se ha establecido la caracterización de los usuarios de acuerdo a sus necesidades de información | D40: 0 | E40: Se cuenta con proceso documentados de valoración y disposición | F40: 1 | G40: Se cuentan con mecanismos técnicos que permitan mejorar la adquisición, uso y mantenimiento de las herramientas tecnológicas | H40: 1 | I40: Se cuenta con procesos de mejora continua | J40: 1
A41: Se cuenta con la infraestructura adecuada para resolver las necesidades documentales y de archivo | B41: 1 | C41: Se cuenta con iniciativa para fomentar el uso de nuevas tecnologías para optimizar el uso del papel | D41: 1 | E41: Se tiene implementado estándares que garanticen la preservación y conservación de los documentos | F41: 1 | G41: Se cuenta con tecnologías asociadas al servicio al ciudadano, que le permita la participación e interacción. | H41: 1 | I41: Se cuenta con instancia asesoras que formulen lineamientos para la aplicación de la función archivística de la entidad | J41: 0
A42: El personal de la entidad cuenta con la importancia de los documentos e interioriza las políticas y directrices concernientes a la gestión de los documentos | B42: 1 | C42: Se tiene implementada la estrategia de Gobierno en Linea - GEL | D42: 0 | E42: Se cuenta con esquemas de migración y conversión normalizados | F42: 1 | G42: Se cuenta con modelos para la identificación, evaluación y análisis del riesgos | H42: 1 | I42: Se tiene identificado los roles y responsabilidades del personal y las áreas frente a los documentos | J42: 1
A43: Se cuenta con el presupuesto adecuado para atender las necesidades documentales y de archivo | B43: 1 | C43: Se cuenta con canales locales y en línea de servicio, atención y orientación al ciudadano | D43: 0 | E43: Se cuenta con modelos o esquemas de continuidad de negocios | F43: 0 | G43: Se cuenta con directrices de seguridad de información con relación al recurso humano, al entorno físico y electrónico, el acceso y los sistemas de información | H43: 1 | I43: La alta dirección está comprometida con el desarrollo de la función archivística de la entidad | J43: 0
B44: =SUM(B34:B43) -> 5 | D44: =SUM(D34:D43) -> 6 | F44: =SUM(F34:F43) -> 4 | H44: =SUM(H34:H43) -> 8 | J44: =SUM(J34:J43) -> 7
...

Sheet Matriz de prioridades
C2: EJES ARTICULADORES
B3: ASPECTOS CRÍTICOS | C3: ACCESO A LA INFORMACIÓN | D3: ADMINISTRACIÓN DE ARCHIVOS | E3: FORTALECIMIENTO Y ARTICULACIÓN | F3: PRESERVACIÓN DE LA INFORMACIÓN | G3: ASPECTOS TECNOLÓGICOS Y DE SEGURIDAD | H3: TOTAL | J3: ASPECTOS CRÍTICOS | N3: EJES ARTICULADORES
B4: La Política y el Programa de Gestión Documental (PGD) presentan brechas estructurales por la omisión de componentes exigidos por el AGN y el modelo MIPG, lo cual dificulta la estandarización de procesos y el cumplimiento de los objetivos de transparencia institucional | C4: 8 | D4: 8 | E4: 6 | F4: 6 | G4: 7 | H4: =SUM(C4:G4) -> 35 | J4: PRIORIDAD | K4: ALTA | L4: 39-30 | N4: PRIORIDAD | O4: ALTA | P4: 59-50
B5: Las Tablas de Retención Documental (TRD) no reflejan la realidad operativa ni las necesidades actuales de la institución. Se requiere una actualización integral que incluya: - Identificación de series y subseries sobre derechos humanos, memoria histórica y conflicto armado. - Inclusión y valoración de archivos en nuevos soportes (fotográficos, sonoros, audiovisuales y electrónicos). | C5: 7 | D5: 7 | E5: 8 | F5: 3 | G5: 8 | H5: =SUM(C5:G5) -> 33 | K5: MEDIA | L5: 29-20 | O5: MEDIA | P5: 49-40
B6: La entidad presenta un déficit crítico en espacios físicos de almacenamiento, incumpliendo con la normativa de las tres fases del archivo (Gestión, Central e Histórico). Actualmente, el depósito existente no reúne las condiciones técnicas de conservación (clima, estantería, seguridad), lo que pone en riesgo la preservación de la memoria institucional y la integridad física de los documentos. | C6: 5 | D6: 6 | E6: 4 | F6: 8 | G6: 7 | H6: =SUM(C6:G6) -> 30 | K6: BAJA | L6: 19-0 | O6: BAJA | P6: 39-0
B7: La entidad presenta vacíos en la planificación a largo plazo, específicamente por la desactualización del Plan de Conservación Documental y el Plan de Preservación Digital a Largo Plazo. Asimismo, se requiere formalizar el procedimiento de valoración documental para asegurar una disposición final adecuada y técnica de los expedientes. | C7: 5 | D7: 5 | E7: 6 | F7: 6 | G7: 5 | H7: =SUM(C7:G7) -> 27
B8: Existe una falta de regulación y criterios técnicos definidos para el uso de medios y técnicas de reproducción (reprografía). Esto impacta la eficiencia en la duplicación de información y la seguridad de las copias generadas en soporte físico o digital. | C8: 5 | D8: 3 | E8: 3 | F8: 8 | G8: 4 | H8: =SUM(C8:G8) -> 23
B9: Se requiere estandarizar la conformación de expedientes electrónicos bajo los principios de la gestión documental y los instrumentos archivísticos vigentes, tales como el CCD y las TRD. | C9: 3 | D9: 4 | E9: 4 | F9: 7 | G9: 4 | H9: =SUM(C9:G9) -> 22
B10: La plataforma actual requiere ajustes urgentes para cumplir con los requerimientos legales y técnicos, incluyendo la elaboración del Modelo de Requisitos para la Gestión de Documentos Electrónicos de Archivo. | C10: 5 | D10: 3 | E10: 4 | F10: 5 | G10: 2 | H10: =SUM(C10:G10) -> 19
B11: Es crítico avanzar en la implementación y parametrización del Sistema de Gestión de Documentos Electrónicos de Archivo (SGDEA), tomando como base el modelo de requisitos mencionado. | C11: 3 | D11: 3 | E11: 3 | F11: 6 | G11: 2 | H11: =SUM(C11:G11) -> 17
B12: No se dispone de un Plan de capacitación que involucre a la totalidad del talento humano. La falta de formación técnica tanto para funcionarios de planta como para contratistas genera disparidad en la aplicación de procesos archivísticos, aumentando la probabilidad de errores en la producción y organización documental. | C12: 3 | D12: 6 | E12: 0 | F12: 1 | G12: 3 | H12: =SUM(C12:G12) -> 13
B13: Se evidencia la necesidad de fortalecer el Programa de Gestión del Conocimiento y Memoria Institucional. Actualmente, no se cuenta con mecanismos de difusión efectivos que permitan socializar el patrimonio documental de la entidad y asegurar que el conocimiento institucional sea accesible y preservado para el futuro | C13: 3 | D13: 6 | E13: 1 | F13: 0 | G13: 3 | H13: =SUM(C13:G13) -> 13
C14: =SUM(C4:C13) -> 47 | D14: =SUM(D4:D13) -> 51 | E14: =SUM(E4:E13) -> 39 | F14: =SUM(F4:F13) -> 50 | G14: =SUM(G4:G13) -> 45

Sheet Vision Estrategica
B2: ASPECTOS CRÍTICOS | C2: PUNTAJE | D2: EJES ARTICULADORES | E2: PUNTAJE
B3: La Política y el Programa de Gestión Documental (PGD) presentan brechas estructurales por la omisión de componentes exigidos por el AGN y el modelo MIPG, lo cual dificulta la estandarización de procesos y el cumplimiento de los objetivos de transparencia institucional | C3: ='Matriz de prioridades'!H4 -> 35 | D3: 3. Acceso a la información | E3: ='Matriz de prioridades'!C14 -> 47
B4: Las Tablas de Retención Documental (TRD) no reflejan la realidad operativa ni las necesidades actuales de la institución. Se requiere una actualización integral que incluya: - Identificación de series y subseries sobre derechos humanos, memoria histórica y conflicto armado. - Inclusión y valoración de archivos en nuevos soportes (fotográficos, sonoros, audiovisuales y electrónicos). | C4: ='Matriz de prioridades'!H5 -> 33 | D4: 1. Administración de archivos | E4: ='Matriz de prioridades'!D14 -> 51
B5: La entidad presenta un déficit crítico en espacios físicos de almacenamiento, incumpliendo con la normativa de las tres fases del archivo (Gestión, Central e Histórico). Actualmente, el depósito existente no reúne las condiciones técnicas de conservación (clima, estantería, seguridad), lo que pone en riesgo la preservación de la memoria institucional y la integridad física de los documentos. | C5: ='Matriz de prioridades'!H6 -> 30 | D5: 5. Fortalecimiento y articulación | E5: ='Matriz de prioridades'!E14 -> 39
B6: La entidad presenta vacíos en la planificación a largo plazo, específicamente por la desactualización del Plan de Conservación Documental y el Plan de Preservación Digital a Largo Plazo. Asimismo, se requiere formalizar el procedimiento de valoración documental para asegurar una disposición final adecuada y técnica de los expedientes. | C6: ='Matriz de prioridades'!H7 -> 27 | D6: 2. Preservación de la información | E6: ='Matriz de prioridades'!F14 -> 50
B7: Existe una falta de regulación y criterios técnicos definidos para el uso de medios y técnicas de reproducción (reprografía). Esto impacta la eficiencia en la duplicación de información y la seguridad de las copias generadas en soporte físico o digital. | C7: ='Matriz de prioridades'!H8 -> 23 | D7: 4. Aspectos tecnológicos y de seguridad | E7: ='Matriz de prioridades'!G14 -> 45
B8: Se requiere estandarizar la conformación de expedientes electrónicos bajo los principios de la gestión documental y los instrumentos archivísticos vigentes, tales como el CCD y las TRD. | C8: ='Matriz de prioridades'!H9 -> 22
B9: La plataforma actual requiere ajustes urgentes para cumplir con los requerimientos legales y técnicos, incluyendo la elaboración del Modelo de Requisitos para la Gestión de Documentos Electrónicos de Archivo. | C9: ='Matriz de prioridades'!H10 -> 19
B10: Es crítico avanzar en la implementación y parametrización del Sistema de Gestión de Documentos Electrónicos de Archivo (SGDEA), tomando como base el modelo de requisitos mencionado. | C10: ='Matriz de prioridades'!H11 -> 17
B11: No se dispone de un Plan de capacitación que involucre a la totalidad del talento humano. La falta de formación técnica tanto para funcionarios de planta como para contratistas genera disparidad en la aplicación de procesos archivísticos, aumentando la probabilidad de errores en la producción y organización documental. | C11: ='Matriz de prioridades'!H12 -> 13
B12: Se evidencia la necesidad de fortalecer el Programa de Gestión del Conocimiento y Memoria Institucional. Actualmente, no se cuenta con mecanismos de difusión efectivos que permitan socializar el patrimonio documental de la entidad y asegurar que el conocimiento institucional sea accesible y preservado para el futuro | C12: ='Matriz de prioridades'!H13 -> 13
B13: VISIÓN ESTRATÉGICA
B14: El Instituto Social de Vivienda y Hábitat de Medellín - ISVIMED, , comprometidos con el cumplimiento de los requerimientos normativos en materia archivística y reconociendo el valor que tiene la información como parte de la administración y del patrimonio cultural fortalecerá su función archivística mediante la actualización de sus instrumentos técnicos y la implementación efectiva del Sistema de Gestión de Documentos Electrónicos de Archivo (SGDEA). Bajo estándares de seguridad y preservación digital, el Instituto ejecutará los planes y proyectos necesarios para garantizar la integridad del patrimonio documental y la armonización de la gestión documental con los demás sistemas institucionales. Esta estrategia no solo vincula medios tecnológicos para optimizar la eficiencia administrativa, sino que promueve una cultura de sensibilización y capacitación continua, asegurando que el acceso transparente a la información y la salvaguarda de la memoria institucional sean pilares fundamentales de la gestión pública

Sheet Proyectos
B3: ITEMS | C3: ASPECTOS CRÍTICOS | D3: PROYECTO | E3: OBJETIVOS | F3: ALCANCE | G3: ACTIVIDADES | H3: ENTREGABLE | I3: RESPONSABLE | J3: PUNTAJE | K3: PORCENTAJE CUMPLIMIENTO
B4: 1 | C4: La Política y el Programa de Gestión Documental (PGD) presentan brechas estructurales por la omisión de componentes exigidos por el AGN y el modelo MIPG, lo cual dificulta la estandarización de procesos y el cumplimiento de los objetivos de transparencia institucional | D4: Actualización e implementación del la Poltica de Gestión Documental | E4: Revisar los componentes de la Política de Gestión Documental y el programa de gestión documental y actualizarla de acuerdo con los resultados obtenidos | F4: Revisión Actualización Publicación | G4: Evaluar cada uno de los componentes de la política y el programa | H4: Política de Gestión Documental y Programa de Gestión Documental | I4: Lider de Gestión Documental- Comunicaciones | J4: 2.5 | K4: =(J4+J5+J6+J7)/100 -> 0.1
G5: Definir las actividades de cada uno de los componentes | J5: 2.5
G6: Presentar en CIGD para aprobación y adopción | J6: 2.5
G7: Publicar en página web | J7: 2.5
B8: 2 | C8: Las Tablas de Retención Documental (TRD) no reflejan la realidad operativa ni las necesidades actuales de la institución. Se requiere una actualización integral que incluya: - Identificación de series y subseries sobre derechos humanos, memoria histórica y conflicto armado. - Inclusión y valoración de archivos en nuevos soportes (fotográficos, sonoros, audiovisuales y electrónicos). | D8: Revisar, actualizar e implementar las TRD | E8: Realizar la elaboración e implementación de los instrumentos archivísticos de acuerdo con las necesidades identificadas en la entidad | F8: Elaboración Aprobación Publicación Implementación Seguimiento | G8: Revisar y actualizar las T.R.D | H8: Tabla de retención actualizada, aprobada y convalidada | I8: Lider de Gestión Documental- Comunicaciones | J8: 5 | K8: =(J8+J9+J10+J11)/100 -> 0.2
G9: Integrar cada una de las actividades a la matriz general de seguimiento del proceso | J9: 5
G10: Presentar en CIGD para aprobación y adopción | J10: 5
G11: Publicar en página web | J11: 5
B12: 3 | C12: La entidad presenta un déficit crítico en espacios físicos de almacenamiento, incumpliendo con la normativa de las tres fases del archivo (Gestión, Central e Histórico). Actualmente, el depósito existente no reúne las condiciones técnicas de conservación (clima, estantería, seguridad), lo que pone en riesgo la preservación de la memoria institucional y la integridad física de los documentos. | D12: Disposición de espacios físicos y reubicación de la documentación de los archivos de gestión y central. | E12: Proporcionar mejores condiciones de almacenamiento y conservación del patrimonio documental del Instituto, garantizando el control y el acceso a la información. | F12: Revisión Adecuación Ejecución | G12: Realizar el envío masivo de subseries sujetas de custodia bajo servicio tercerizado | H12: Crongrama de transferencias documentales Inventario de eliminación documental | I12: Lider de Gestión Documental | J12: 2.5 | K12: =(J12+J13+J14+J15)/100 -> 0.1
G13: Definir espacio para establecer los archivos de gestión | J13: 2.5
G14: Definir cronograma de transferencias documentales | J14: 2.5
G15: Revisar la documentacion que de acuerdo con las trd vigentes se puede llevar a cabo el proceso de eliminación | J15: 2.5
B16: 4 | C16: La entidad presenta vacíos por la desactualización del Plan de Conservación Documental y el Plan de Preservación Digital a Largo Plazo. Asimismo, se requiere formalizar el procedimiento de valoración documental para asegurar una disposición final adecuada y técnica de los expedientes. | D16: Elaboración y/o actualización de los procedimientos asociados a cada uno de los procesos de Gestión Documental | E16: Elaborar y/o actualizar los procedimientos y realizar los ajustes necesarios que garanticen la custodia y administración de la documentación del archivo central | F16: Elaboración e Implementación | G16: Identificar cuales son los procedimientos sujetos de actualización o cuales faltan por elaboración | H16: Plan de conservación y plan de preservación actualizado | I16: Lider de Gestión Documental | J16: 2.5 | K16: =(J16+J17)/100 -> 0.05
G17: Elaborar y/o actualizar de procedimientos | J17: 2.5
B18: 5 | C18: Existe una falta de regulación y criterios técnicos definidos para el uso de medios y técnicas de reproducción (reprografía). Esto impacta la eficiencia en la duplicación de información y la seguridad de las copias generadas en soporte físico o digital. | D18: Establecer los lineamientos técnicos, administrativos y de seguridad para los procesos de reproducción de documentos (físicos y digitales), garantizando la integridad de la información y la optimización de los recursos institucionales. | E18: Estandarizar el proceso de reproducción digital mediante la definición de parámetros técnicos, requisitos legales y protocolos de seguridad para garantizar la validez y protección de la información | F18: Elaboración e Implementación | G18: Diseño y Normalización del Modelo de Reprografía | H18: Manual de reprografia | I18: Lider de Gestión Documental | J18: 5 | K18: =(J18+J19)/100 -> 0.1
G19: Implementación del Manual | J19: 5
B20: 6 | C20: Se requiere estandarizar la conformación de expedientes electrónicos bajo los principios de la gestión documental y los instrumentos archivísticos vigentes, tales como el CCD y las TRD. | D20: Estandarizar el proceso de conformación, gestión y foliado electrónico de los expedientes institucionales, asegurando su alineación con el Cuadro de Clasificación Documental (CCD) y las Tablas de Retención Documental (TRD) para garantizar su valor probatorio y preservación a largo plazo. | E20: Establecer el marco técnico para la organización de expedientes digitales, asegurando la integridad de la información mediante metadatos, índices electrónicos y el control del ciclo de vida documental | F20: Ciclo vital del documento | G20: Estructuración según el CCD | H20: Instructivo para la Gestión del Expediente Electrónico de Archivo | I20: Lider de Gestión Documental - Profesional T.I | J20: 5 | K20: =(J20+J22)/100 -> 0.05
G21: Diseño y Estandarización del Esquema de Metadatos
G22: Implementación de Foliación e Índice Electrónico (XML)
G23: Definición de la Política de Firma y Autenticidad
B24: 7 | C24: La plataforma actual requiere ajustes (actualización) urgentes para cumplir con los requerimientos legales y técnicos, incluyendo la elaboración del Modelo de Requisitos para la Gestión de Documentos Electrónicos de Archivo. | D24: Evaluación del Sistema de Información SIFI | E24: Establecer el nivel de madurez del sistema de información SIFI frente a los requerimientos normativos establecidos por el AGN | F24: Validación, mejoras e implementación | G24: Evaluar el Sistema de Información SIFI , para determinar el nivel de cumplimiento de requistos normativos y establecer un Modelo de Requisitos para la Gestión de Documentos Electrónicos | H24: Resultados de evaluación | I24: Lider de Gestión Documental - Profesional T.I | J24: 5 | K24: =(J24+J25)/100 -> 0.1
G25: Presentar resultados en el CIGD | J25: 5
B26: 8 | C26: Es crítico avanzar en la implementación y parametrización del Sistema de Gestión de Documentos Electrónicos de Archivo (SGDEA), tomando como base el modelo de requisitos mencionado. | D26: Implementar y configurar técnicamente el software de gestión documental (SGDEA) bajo los estándares del Modelo de Requisitos, garantizando la automatización de los procesos archivísticos y la gestión del ciclo de vida de los documentos electrónicos. | E26: Parametrizar el SGDEA para asegurar la clasificación automática, la eficiencia de los procesos internos y el intercambio seguro de información entre sistemas misionales. | F26: Elaboracion, diseño e implementación | G26: Parametrización de Instrumentos Archivísticos y Estructura Organizacional | H26: Protocolo de Parametrización de Instrumentos Archivísticos en el SGDEA | I26: Lider de Gestión Documental - Profesional T.I | J26: 2.5 | K26: =(J26+J27+J28+J29)/100 -> 0.1
G27: Modelado y Automatización de Flujos de Trabajo | J27: 2.5
G28: Configuración del Esquema de Seguridad y Auditoría | J28: 2.5
G29: Integración y Pruebas de Interoperabilidad | J29: 2.5
B30: 9 | C30: No se dispone de un Plan de capacitación que involucre a la totalidad del talento humano. La falta de formación técnica tanto para funcionarios de planta como para contratistas genera disparidad en la aplicación de procesos archivísticos, aumentando la probabilidad de errores en la producción y organización documental. | D30: Capacitación en Gestión Documental | E30: Establecer un plan de capacitación que permita dar a conocer los procesos e instrumentos archivísticos definidos desde el proceso para el Instituo | F30: Funcionarios Contratistas Areas Procesos Instrumentos archivísticos | G30: Evaluar las necesidades de capacitación | H30: Plan de capacitación Evidencias Evaluaciones | I30: Talento Humano- Lider de Gestión Documental | J30: 2.5 | K30: =(J30+J31+J32+J33)/100 -> 0.1
G31: Establer el plan de capacitación | J31: 2.5
G32: Ejecutar el plan de capacitación | J32: 2.5
G33: Evaluar la efectividad | J33: 2.5
B34: 10 | C34: Se evidencia la necesidad de fortalecer el Programa de Gestión del Conocimiento y Memoria Institucional. Actualmente, no se cuenta con mecanismos de difusión efectivos que permitan socializar el patrimonio documental de la entidad y asegurar que el conocimiento institucional sea accesible y preservado para el futuro | D34: Implementar mecanismos sistemáticos para la captura, preservación y difusión del conocimiento y la memoria histórica de la entidad, garantizando que el patrimonio documental sea un recurso accesible para la toma de decisiones y el fortalecimiento de la identidad institucional. | E34: Fortalecer la cultura organizacional y la preservación de la memoria institucional mediante la implementación de canales de difusión y estrategias de transferencia de conocimiento que aseguren la salvaguarda del saber operativo y el valor patrimonial de los archivos. | F34: Funcionarios Contratistas Areas Procesos Instrumentos archivísticos | G34: Diseño actividades de difusión | H34: Programa de Sensibilización y Cultura Archivística | I34: Talento Humano- Lider de Gestión Documental | J34: 2.5 | K34: =(J34+J35+J36+J37)/100 -> 0.1
G35: Definicion de recursos para las actividades | J35: 2.5
G36: Implementación de actividades | J36: 2.5
G37: Segumiento de actividades | J37: 2.5
B38: TOTAL | K38: =SUM(K4:K37) -> 1

Sheet Mapa de ruta
C2: PROYECTO | D2: ACTIVIDADES | E2: EJECUCIÓN 2026
E3: ENE | F3: FEB | G3: MAR | H3: ABR | I3: MAY | J3: JUN | K3: JUL | L3: AGO | M3: SEP | N3: OCT | O3: NOV | P3: DIC
C4: La Política y el Programa de Gestión Documental (PGD) presentan brechas estructurales por la omisión de componentes exigidos por el AGN y el modelo MIPG, lo cual dificulta la estandarización de procesos y el cumplimiento de los objetivos de transparencia institucional | D4: Evaluar cada uno de los componentes de la política y el programa
D5: Definir las actividades de cada uno de los componentes
D6: Presentar en CIGD para aprobación y adopción
D7: Publicar en página web
C8: Las Tablas de Retención Documental (TRD) no reflejan la realidad operativa ni las necesidades actuales de la institución. Se requiere una actualización integral que incluya: - Identificación de series y subseries sobre derechos humanos, memoria histórica y conflicto armado. - Inclusión y valoración de archivos en nuevos soportes (fotográficos, sonoros, audiovisuales y electrónicos). | D8: Revisar y actualizar las T.R.D
D9: Integrar cada una de las actividades a la matriz general de seguimiento del proceso
D10: Presentar en CIGD para aprobación y adopción
D11: Publicar en página web
C12: La entidad presenta un déficit crítico en espacios físicos de almacenamiento, incumpliendo con la normativa de las tres fases del archivo (Gestión, Central e Histórico). Actualmente, el depósito existente no reúne las condiciones técnicas de conservación (clima, estantería, seguridad), lo que pone en riesgo la preservación de la memoria institucional y la integridad física de los documentos. | D12: Realizar el envío masivo de subseries sujetas de custodia bajo servicio tercerizado
D13: Definir espacio para establecer los archivos de gestión
D14: Definir cronograma de transferencias documentales
D15: Revisar la documentacion que de acuerdo con las trd vigentes se puede llevar a cabo el proceso de eliminación
C16: La entidad presenta vacíos por la desactualización del Plan de Conservación Documental y el Plan de Preservación Digital a Largo Plazo. Asimismo, se requiere formalizar el procedimiento de valoración documental para asegurar una disposición final adecuada y técnica de los expedientes. | D16: Identificar cuales son los procedimientos sujetos de actualización o cuales faltan por elaboración
D17: Elaborar y/o actualizar de procedimientos
C18: Faltan criterios técnicos definidos para el uso de medios y técnicas de reproducción (reprografía). Esto impacta la eficiencia en la duplicación de información y la seguridad de las copias generadas en soporte físico o digital. | D18: "Diagnóstico: Identificar qué se está reproduciendo, en qué volumen y quién tiene acceso a los equipos. Redacción del Manual de Reprografía: Documento que contenga los ""paso a paso"" técnicos (ej. Uso de PDF/A para digitalización, configuración de DPI para archivo histórico). Protocolo de Seguridad: Definir quién puede reproducir documentos ""Reservados"" o ""Clasificados"". Socialización: Capacitar al personal en el uso responsable de los medios de reproducción."
C20: Se requiere estandarizar la conformación de expedientes electrónicos bajo los principios de la gestión documental y los instrumentos archivísticos vigentes, tales como el CCD y las TRD. | D20: Guía de Foliación Electrónica: No es poner números en una esquina del PDF, sino crear un índice XML o un metadato que ""encadene"" los documentos. Esquema de Metadatos: Definir qué información ""etiquetará"" a cada expediente (Ej: ID del ciudadano, fecha de apertura, dependencia responsable, código de la TRD). Política de Firmas: Establecer que los documentos dentro del expediente deben contar con firmas electrónicas o digitales para ser válidos. Vinculación con el CCD: Cada carpeta electrónica debe nacer con el código exacto que le corresponde según la oficina que la produce."
C22: El sistema de gestión documental SIFIl requiere ajustes (actualización) urgentes para cumplir con los requerimientos legales y técnicos, incluyendo la elaboración del Modelo de Requisitos para la Gestión de Documentos Electrónicos de Archivo. | D22: Evaluar el Sistema de Informació SIFI , para determinar el nivel de cumplimiento de requistos normativos y establecer un Modelo de Requisitos para la Gestión de Documentos Electrónicos
D23: Presentar resultados en el CIGD
C24: Es crítico avanzar en la implementación y parametrización del Sistema de Gestión de Documentos Electrónicos de Archivo (SGDEA), tomando como base el modelo de requisitos mencionado. | D24: Módulo de Radicación: Configuración de ventanilla única virtual para comunicaciones oficiales (entrantes, salientes e internas). Módulo de Clasificación: Vinculación de cada serie y subserie documental con sus respectivos tipos documentales. Gestión de Metadatos: Configuración de los campos mínimos obligatorios que debe capturar el sistema por cada documento (fecha, autor, asunto, código TRD, etc.). Módulo de Transferencias y Disposición: Automatización de las alertas cuando un expediente cumple su tiempo en el Archivo de Gestión para ser transferido o eliminado. Índice Electrónico: Generación automática del índice por cada expediente conformado en el sistema.
C29: No se dispone de un Plan de capacitación que involucre a la totalidad del talento humano. La falta de formación técnica tanto para funcionarios de planta como para contratistas genera disparidad en la aplicación de procesos archivísticos, aumentando la probabilidad de errores en la producción y organización documental. | D29: Evaluar las necesidades de capacitación
D30: Establer el plan de capacitación
D31: Ejecutar el plan de capacitación
D32: Evaluar la efectividad
C33: Se evidencia la necesidad de fortalecer el Programa de Gestión del Conocimiento y Memoria Institucional. Actualmente, no se cuenta con mecanismos de difusión efectivos que permitan socializar el patrimonio documental de la entidad y asegurar que el conocimiento institucional sea accesible y preservado para el futuro | D33: "Repositorio de Memoria Digital: Crear un micrositio donde se publiquen documentos de interés histórico con herramientas de búsqueda amigables. Lecciones Aprendidas: Establecer un formato de ""Cierre de Proyecto"" donde se documenten los aciertos y errores, alimentando una base de datos de conocimiento para futuros equipos. Día del Archivo / Jornadas de Difusión: Eventos anuales de capacitación y muestra documental para recordar el impacto de la entidad en la sociedad."

Sheet Seguimiento y control
G2: SEGUIMIENTO
B3: PROYECTO | C3: ACTIVIDADES | D3: % ESPERADO | E3: AVANCE | F3: PORCENTAJE DE CUMPLIMIENTO | G3: 2026
B4: Actualización e implementación del la Poltica de Gestión Documental | C4: Evaluar cada uno de los componentes de la política y el programa | D4: 2.5 | F4: =(E5+E6+E7)/100 -> 0 | G4: Ene | H4: Feb | I4: Mar | J4: Abr | K4: May | L4: Jun | M4: Jul | N4: Ago | O4: Sep | P4: Oct | Q4: Nov | R4: Dic
C5: Definir las actividades de cada uno de los componentes | D5: 2.5
C6: Presentar en CIGD para aprobación y adopción | D6: 2.5
C7: Publicar en página web | D7: 2.5
B8: Revisar, actualizar e implementar las TRD | C8: Revisar y actualizar las T.R.D | D8: 5 | F8: =(E8+E9+E10+E11)/100 -> 0
C9: Integrar cada una de las actividades a la matriz general de seguimiento del proceso | D9: 5
C10: Presentar en CIGD para aprobación y adopción | D10: 5
C11: Publicar en página web | D11: 5
B12: Disposición de espacios físicos y reubicación de la documentación de los archivos de gestión y central. | C12: Realizar el envío masivo de subseries sujetas de custodia bajo servicio tercerizado | D12: 2.5 | F12: =(E12+E13+E14+E15)*100 -> 0
C13: Definir espacio para establecer los archivos de gestión | D13: 2.5
C14: Definir cronograma de transferencias documentales | D14: 2.5
C15: Revisar la documentacion que de acuerdo con las trd vigentes se puede llevar a cabo el proceso de eliminación | D15: 2.5
B16: Elaboración y/o actualización de los procedimientos asociados a cada uno de los procesos de Gestión Documental | C16: Identificar cuales son los procedimientos sujetos de actualización o cuales faltan por elaboración | D16: 2.5 | F16: =(E17+E18+E19+E20+E21)/100 -> 0
C17: Elaborar y/o actualizar de procedimientos | D17: 2.5
B18: Establecer los lineamientos técnicos, administrativos y de seguridad para los procesos de reproducción de documentos (físicos y digitales), garantizando la integridad de la información y la optimización de los recursos institucionales. | C18: Diseño y Normalización del Modelo de Reprografía | D18: 5 | F18: =(E18+E19)/100 -> 0
C19: Implementación del Manual | D19: 5
B20: Estandarizar el proceso de conformación, gestión y foliado electrónico de los expedientes institucionales, asegurando su alineación con el Cuadro de Clasificación Documental (CCD) y las Tablas de Retención Documental (TRD) para garantizar su valor probatorio y preservación a largo plazo. | C20: Estructuración según el CCD | D20: 5 | F20: =(E20+E21+E22+E23)/100 -> 0
C21: Diseño y Estandarización del Esquema de Metadatos
C22: Implementación de Foliación e Índice Electrónico (XML)
C23: Definición de la Política de Firma y Autenticidad
B24: Evaluación del Sistema de Información SIFI | C24: Evaluar el Sistema de Información SIFI , para determinar el nivel de cumplimiento de requistos normativos y establecer un Modelo de Requisitos para la Gestión de Documentos Electrónicos | D24: 5 | F24: =(E24+E25)/100 -> 0
C25: Presentar resultados en el CIGD | D25: 5
B26: Implementar y configurar técnicamente el software de gestión documental (SGDEA) bajo los estándares del Modelo de Requisitos, garantizando la automatización de los procesos archivísticos y la gestión del ciclo de vida de los documentos electrónicos. | C26: Parametrización de Instrumentos Archivísticos y Estructura Organizacional | D26: 2.5 | F26: =(E26+E27+E28+E29)/100 -> 0
C27: Modelado y Automatización de Flujos de Trabajo | D27: 2.5
C28: Configuración del Esquema de Seguridad y Auditoría | D28: 2.5
C29: Integración y Pruebas de Interoperabilidad | D29: 2.5
B30: Capacitación en Gestión Documental | C30: Evaluar las necesidades de capacitación | D30: 2.5 | F30: =(E30+E31+E32+E33)/100 -> 0
C31: Establer el plan de capacitación | D31: 2.5
C32: Ejecutar el plan de capacitación | D32: 2.5
C33: Evaluar la efectividad | D33: 2.5
B34: Implementar mecanismos sistemáticos para la captura, preservación y difusión del conocimiento y la memoria histórica de la entidad, garantizando que el patrimonio documental sea un recurso accesible para la toma de decisiones y el fortalecimiento de la identidad institucional. | C34: Diseño actividades de difusión | D34: 2.5 | F34: =(E34+E35+E36+E37)/100 -> 0
C35: Definicion de recursos para las actividades | D35: 2.5
C36: Implementación de actividades | D36: 2.5
C37: Segumiento de actividades | D37: 2.5
F38: =SUM(F4:F36) -> 0
